BEGIN:VCALENDAR
VERSION:2.0
PRODID:-//The City of Memphis - ECPv6.15.0//NONSGML v1.0//EN
CALSCALE:GREGORIAN
METHOD:PUBLISH
X-ORIGINAL-URL:https://memphistn.gov
X-WR-CALDESC:Events for The City of Memphis
REFRESH-INTERVAL;VALUE=DURATION:PT1H
X-Robots-Tag:noindex
X-PUBLISHED-TTL:PT1H
BEGIN:VTIMEZONE
TZID:America/Chicago
BEGIN:DAYLIGHT
TZOFFSETFROM:-0600
TZOFFSETTO:-0500
TZNAME:CDT
DTSTART:20260308T080000
END:DAYLIGHT
BEGIN:STANDARD
TZOFFSETFROM:-0500
TZOFFSETTO:-0600
TZNAME:CST
DTSTART:20261101T070000
END:STANDARD
END:VTIMEZONE
BEGIN:VEVENT
DTSTART;TZID=America/Chicago:20260923T173000
DTEND;TZID=America/Chicago:20260923T193000
DTSTAMP:20260423T205654
CREATED:20260327T140647Z
LAST-MODIFIED:20260327T140647Z
UID:10000979-1790184600-1790191800@memphistn.gov
SUMMARY:Coffee and Conversations Event
DESCRIPTION:  \nClick here for ADA accommodations \n\n\n 
URL:https://memphistn.gov/event/coffee-and-conversations-event-2/
LOCATION:Benjamin L. Hooks Central Library
CATEGORIES:Meetings,Regular
END:VEVENT
BEGIN:VEVENT
DTSTART;TZID=America/Chicago:20261021T180000
DTEND;TZID=America/Chicago:20261021T200000
DTSTAMP:20260423T205654
CREATED:20260113T195511Z
LAST-MODIFIED:20260113T195638Z
UID:10000958-1792605600-1792612800@memphistn.gov
SUMMARY:How 2 Become a Certified Contractor
DESCRIPTION:Benjamin L. Hooks Central Library\, Meeting RM-L-56\nTavita Conway\, Administrator\, Green & Healthy\nCassandra Gray\, Sr. Manager\, LEAD\nPatricia Shumake\, Sr. Manager\, Green & Healthy\nProduction Grant\, Division of Housing and\nCommunity Development (HCD) \nAll sessions are FREE and begin at 6:00 pm.\nTo register please contact the\nOffice of Neighborhood Engagement at 901-636-6980\nor email NRC@memphistn.gov.
URL:https://memphistn.gov/event/how-2-become-a-certified-contractor/
LOCATION:Benjamin L. Hooks Central Library
CATEGORIES:Meetings,Regular
END:VEVENT
BEGIN:VEVENT
DTSTART;TZID=America/Chicago:20261118T180000
DTEND;TZID=America/Chicago:20261118T200000
DTSTAMP:20260423T205654
CREATED:20260113T195734Z
LAST-MODIFIED:20260113T195734Z
UID:10000965-1795024800-1795032000@memphistn.gov
SUMMARY:How 2 Look at Economic Development  Projects
DESCRIPTION:Benjamin L. Hooks Central Library\, Meeting RM- A/C\nDiane Lane\, Real Estate Development\, Sr.\nManager\nDivision of Housing and Community Development\n(HCD) \nAll sessions are FREE and begin at 6:00 pm.\nTo register please contact the\nOffice of Neighborhood Engagement at 901-636-6980\nor email NRC@memphistn.gov.
URL:https://memphistn.gov/event/how-2-look-at-economic-development-projects/
LOCATION:Benjamin L. Hooks Central Library
CATEGORIES:Meetings,Regular
END:VEVENT
BEGIN:VEVENT
DTSTART;TZID=America/Chicago:20261216T180000
DTEND;TZID=America/Chicago:20261216T200000
DTSTAMP:20260423T205654
CREATED:20260113T195821Z
LAST-MODIFIED:20260113T195821Z
UID:10000966-1797444000-1797451200@memphistn.gov
SUMMARY:How 2 Become a Neighborhood  Association/Block Club
DESCRIPTION:Benjamin L. Hooks Central Library\, Meeting RM-L-56\nKatyana Dandridge\, Multicultural Outreach Coordinator\,\nOffice of Community Affairs \nAll sessions are FREE and begin at 6:00 pm.\nTo register please contact the\nOffice of Neighborhood Engagement at 901-636-6980\nor email NRC@memphistn.gov.
URL:https://memphistn.gov/event/how-2-become-a-neighborhood-association-block-club/
LOCATION:Benjamin L. Hooks Central Library
CATEGORIES:Meetings,Regular
END:VEVENT
END:VCALENDAR