BEGIN:VCALENDAR
VERSION:2.0
PRODID:-//The City of Memphis - ECPv6.15.0//NONSGML v1.0//EN
CALSCALE:GREGORIAN
METHOD:PUBLISH
X-WR-CALNAME:The City of Memphis
X-ORIGINAL-URL:https://memphistn.gov
X-WR-CALDESC:Events for The City of Memphis
REFRESH-INTERVAL;VALUE=DURATION:PT1H
X-Robots-Tag:noindex
X-PUBLISHED-TTL:PT1H
BEGIN:VTIMEZONE
TZID:UTC
BEGIN:STANDARD
TZOFFSETFROM:+0000
TZOFFSETTO:+0000
TZNAME:UTC
DTSTART:20250101T000000
END:STANDARD
END:VTIMEZONE
BEGIN:VEVENT
DTSTART;TZID=UTC:20250108T160000
DTEND;TZID=UTC:20250108T160000
DTSTAMP:20260421T002229
CREATED:20250410T025300Z
LAST-MODIFIED:20250411T021420Z
UID:10000376-1736352000-1736352000@memphistn.gov
SUMMARY:Design Review Board Meeting
DESCRIPTION:Meeting Virtual \nFor more information please \nCLICK HERE 
URL:https://memphistn.gov/event/design-review-board-meeting-10/
LOCATION:TN
CATEGORIES:Regular
END:VEVENT
BEGIN:VEVENT
DTSTART;TZID=UTC:20250109T083000
DTEND;TZID=UTC:20250109T083000
DTSTAMP:20260421T002229
CREATED:20250411T015022Z
LAST-MODIFIED:20250411T015022Z
UID:10000435-1736411400-1736411400@memphistn.gov
SUMMARY:CRA BOARD OF DIRECTORS MEETING
DESCRIPTION:Note: A calendar invite will be sent. Each month\, please let me know if you \nWILL or WILL NOT be attending. If you have any questions\, please contact \nCynthia Durham at the CRA office at \n901-435-6992 x209 or email her at \nCYNTHIA.DURHAM@CRAMEMPHIS.ORG
URL:https://memphistn.gov/event/cra-board-of-directors-meeting-7/
LOCATION:Community Redevelopment Agency Office\, 850 N. Manassas St\, Memphis\, TN\, 38107\, United States
CATEGORIES:Meetings,Regular
END:VEVENT
END:VCALENDAR