BEGIN:VCALENDAR
VERSION:2.0
PRODID:-//The City of Memphis - ECPv6.15.0//NONSGML v1.0//EN
CALSCALE:GREGORIAN
METHOD:PUBLISH
X-ORIGINAL-URL:https://memphistn.gov
X-WR-CALDESC:Events for The City of Memphis
REFRESH-INTERVAL;VALUE=DURATION:PT1H
X-Robots-Tag:noindex
X-PUBLISHED-TTL:PT1H
BEGIN:VTIMEZONE
TZID:UTC
BEGIN:STANDARD
TZOFFSETFROM:+0000
TZOFFSETTO:+0000
TZNAME:UTC
DTSTART:20250101T000000
END:STANDARD
END:VTIMEZONE
BEGIN:VTIMEZONE
TZID:America/Chicago
BEGIN:DAYLIGHT
TZOFFSETFROM:-0600
TZOFFSETTO:-0500
TZNAME:CDT
DTSTART:20250309T080000
END:DAYLIGHT
BEGIN:STANDARD
TZOFFSETFROM:-0500
TZOFFSETTO:-0600
TZNAME:CST
DTSTART:20251102T070000
END:STANDARD
END:VTIMEZONE
BEGIN:VEVENT
DTSTART;TZID=UTC:20250716T090000
DTEND;TZID=UTC:20250716T090000
DTSTAMP:20260425T095837
CREATED:20250410T212619Z
LAST-MODIFIED:20250806T164421Z
UID:10000415-1752656400-1752656400@memphistn.gov
SUMMARY:Alcohol Commission Meeting
DESCRIPTION:
URL:https://memphistn.gov/event/alcohol-commission-meeting-32/
LOCATION:City Council Chambers (1st Floor)\, 125 North Main Street\, Memphis\, 38103\, United States
CATEGORIES:Meetings,Regular
END:VEVENT
BEGIN:VEVENT
DTSTART;TZID=UTC:20250716T093000
DTEND;TZID=UTC:20250716T120000
DTSTAMP:20260425T095837
CREATED:20250325T202820Z
LAST-MODIFIED:20250415T204743Z
UID:10000146-1752658200-1752667200@memphistn.gov
SUMMARY:Quick Book hosted by Tennessee Small Business Development Center
DESCRIPTION:
URL:https://memphistn.gov/event/quick-book-hosted-by-tennessee-small-business-development-center-4/
LOCATION:Entrepreneurs Network Center\, 480 Dr. ML Kings Jr. Ave\, Memphis\, TN\, 38126\, United States
CATEGORIES:Board of Ethics,Office of Contract Compliance
END:VEVENT
BEGIN:VEVENT
DTSTART;TZID=America/Chicago:20250716T103000
DTEND;TZID=America/Chicago:20250716T110000
DTSTAMP:20260425T095837
CREATED:20250523T154139Z
LAST-MODIFIED:20250523T154139Z
UID:10000517-1752661800-1752663600@memphistn.gov
SUMMARY:Music Therapy Story Time
DESCRIPTION:
URL:https://memphistn.gov/event/music-therapy-story-time/2025-07-16/
LOCATION:Hollywood Branch Library\, 1520 N Hollywood St\, Memphis\, TN\, 38108\, United States
CATEGORIES:Regular
END:VEVENT
BEGIN:VEVENT
DTSTART;TZID=UTC:20250716T160000
DTEND;TZID=UTC:20250716T160000
DTSTAMP:20260425T095837
CREATED:20250410T003434Z
LAST-MODIFIED:20250411T022618Z
UID:10000349-1752681600-1752681600@memphistn.gov
SUMMARY:Downtown Mobility Authority Board Meeting
DESCRIPTION:
URL:https://memphistn.gov/event/downtown-mobility-authority-board-meeting-2/
LOCATION:TN
CATEGORIES:Regular
END:VEVENT
BEGIN:VEVENT
DTSTART;TZID=UTC:20250716T180000
DTEND;TZID=UTC:20250716T190000
DTSTAMP:20260425T095837
CREATED:20250325T232843Z
LAST-MODIFIED:20250326T002338Z
UID:10000224-1752688800-1752692400@memphistn.gov
SUMMARY:Yoga in the Park
DESCRIPTION:
URL:https://memphistn.gov/event/yoga-in-the-park-2/2025-07-16/
LOCATION:Marion Hale Community Center\, 4791 Willow Rd\, Memphis\, TN\, Memphis\, TN\, 38117\, United States
CATEGORIES:Regular
END:VEVENT
BEGIN:VEVENT
DTSTART;TZID=America/Chicago:20250718T110000
DTEND;TZID=America/Chicago:20250718T150000
DTSTAMP:20260425T095837
CREATED:20250610T193435Z
LAST-MODIFIED:20250610T195041Z
UID:10000544-1752836400-1752850800@memphistn.gov
SUMMARY:Senior Health Fair
DESCRIPTION:
URL:https://memphistn.gov/event/senior-health-fair/
LOCATION:Benjamin L Hooks Central Library\, 3030 Poplar Ave\, Memphis\, 38111\, United States
CATEGORIES:Regular
END:VEVENT
BEGIN:VEVENT
DTSTART;TZID=America/Chicago:20250718T180000
DTEND;TZID=America/Chicago:20250718T210000
DTSTAMP:20260425T095837
CREATED:20250627T132625Z
LAST-MODIFIED:20250627T132813Z
UID:10000552-1752861600-1752872400@memphistn.gov
SUMMARY:Family Fun Day
DESCRIPTION:
URL:https://memphistn.gov/event/family-fun-day/
LOCATION:Robert Church Park\, 191 Beale St.\, Memphis\, TN\, 38103\, United States
CATEGORIES:Regular
END:VEVENT
BEGIN:VEVENT
DTSTART;TZID=America/Chicago:20250719T100000
DTEND;TZID=America/Chicago:20250719T120000
DTSTAMP:20260425T095837
CREATED:20250703T181640Z
LAST-MODIFIED:20250703T182805Z
UID:10000556-1752919200-1752926400@memphistn.gov
SUMMARY:Back to School Block Party
DESCRIPTION:
URL:https://memphistn.gov/event/back-to-school-block-party/
LOCATION:South Branch Library\, 1929 S 3rd St\, Memphis\, TN\, 38109\, United States
CATEGORIES:Regular
END:VEVENT
BEGIN:VEVENT
DTSTART;TZID=America/Chicago:20250719T100000
DTEND;TZID=America/Chicago:20250719T140000
DTSTAMP:20260425T095837
CREATED:20250714T181632Z
LAST-MODIFIED:20250714T183252Z
UID:10000563-1752919200-1752933600@memphistn.gov
SUMMARY:MAS Adoption Event
DESCRIPTION:
URL:https://memphistn.gov/event/mas-adoption-event/2025-07-19/
LOCATION:Petsmart Wolfchase\, 2805 Wolfcreek Parkway\, Memphis\, TN\, 38133\, United States
CATEGORIES:Regular
END:VEVENT
BEGIN:VEVENT
DTSTART;TZID=UTC:20250719T130000
DTEND;TZID=UTC:20250719T140000
DTSTAMP:20260425T095837
CREATED:20250326T003729Z
LAST-MODIFIED:20250326T003729Z
UID:10000257-1752930000-1752933600@memphistn.gov
SUMMARY:Dog Handling Course
DESCRIPTION:
URL:https://memphistn.gov/event/dog-handling-course-4/
LOCATION:TN
CATEGORIES:Regular
END:VEVENT
BEGIN:VEVENT
DTSTART;TZID=America/Chicago:20250719T130000
DTEND;TZID=America/Chicago:20250719T143000
DTSTAMP:20260425T095837
CREATED:20250523T155304Z
LAST-MODIFIED:20250523T155304Z
UID:10000527-1752930000-1752935400@memphistn.gov
SUMMARY:Genealogy Class
DESCRIPTION:
URL:https://memphistn.gov/event/genealogy-class/2025-07-19/
LOCATION:Orange Mound Library\, 843 Dallas St\, Memphis\, 38114\, United States
CATEGORIES:Regular
END:VEVENT
BEGIN:VEVENT
DTSTART;TZID=America/Chicago:20250719T130000
DTEND;TZID=America/Chicago:20250719T143000
DTSTAMP:20260425T095837
CREATED:20250610T193119Z
LAST-MODIFIED:20250610T193216Z
UID:10000541-1752930000-1752935400@memphistn.gov
SUMMARY:Genealogy Class with Teresa Hill Mays
DESCRIPTION:
URL:https://memphistn.gov/event/genealogy-class-with-teresa-hill-mays/2025-07-19/
LOCATION:Orange Mound Community Center\, 2590 Park Avenue\, Memphis\, TN\, 38114\, United States
CATEGORIES:Regular
END:VEVENT
BEGIN:VEVENT
DTSTART;TZID=UTC:20250722T090000
DTEND;TZID=UTC:20250722T090000
DTSTAMP:20260425T095837
CREATED:20250408T232821Z
LAST-MODIFIED:20250409T195135Z
UID:10000311-1753174800-1753174800@memphistn.gov
SUMMARY:City Council Meeting
DESCRIPTION:
URL:https://memphistn.gov/event/city-council-meeting-7/
LOCATION:125 N. Main\, 125 N. Main\, Memphis\, TN\, 38103\, United States
CATEGORIES:Citycouncil Events,Regular
END:VEVENT
BEGIN:VEVENT
DTSTART;TZID=America/Chicago:20250722T110000
DTEND;TZID=America/Chicago:20250722T130000
DTSTAMP:20260425T095837
CREATED:20250711T003536Z
LAST-MODIFIED:20250711T003536Z
UID:10000562-1753182000-1753189200@memphistn.gov
SUMMARY:Pet Cents Academy: Responsible Pet Ownership for Kids
DESCRIPTION:
URL:https://memphistn.gov/event/pet-cents-academy-responsible-pet-ownership-for-kids/
LOCATION:2350 Appling City Cove\, 2350 Appling City Cove\, Memphis\, 38133\, United States
CATEGORIES:Formal,Regular
END:VEVENT
BEGIN:VEVENT
DTSTART;TZID=America/Chicago:20250723T103000
DTEND;TZID=America/Chicago:20250723T110000
DTSTAMP:20260425T095837
CREATED:20250523T154139Z
LAST-MODIFIED:20250523T154139Z
UID:10000518-1753266600-1753268400@memphistn.gov
SUMMARY:Music Therapy Story Time
DESCRIPTION:
URL:https://memphistn.gov/event/music-therapy-story-time/2025-07-23/
LOCATION:Hollywood Branch Library\, 1520 N Hollywood St\, Memphis\, TN\, 38108\, United States
CATEGORIES:Regular
END:VEVENT
BEGIN:VEVENT
DTSTART;TZID=America/Chicago:20250723T103000
DTEND;TZID=America/Chicago:20250723T120000
DTSTAMP:20260425T095837
CREATED:20250523T155304Z
LAST-MODIFIED:20250523T155304Z
UID:10000528-1753266600-1753272000@memphistn.gov
SUMMARY:Genealogy Class
DESCRIPTION:
URL:https://memphistn.gov/event/genealogy-class/2025-07-23/
LOCATION:Orange Mound Library\, 843 Dallas St\, Memphis\, 38114\, United States
CATEGORIES:Regular
END:VEVENT
BEGIN:VEVENT
DTSTART;TZID=America/Chicago:20250723T103000
DTEND;TZID=America/Chicago:20250723T120000
DTSTAMP:20260425T095837
CREATED:20250610T193119Z
LAST-MODIFIED:20250610T193216Z
UID:10000542-1753266600-1753272000@memphistn.gov
SUMMARY:Genealogy Class with Teresa Hill Mays
DESCRIPTION:
URL:https://memphistn.gov/event/genealogy-class-with-teresa-hill-mays/2025-07-23/
LOCATION:Orange Mound Community Center\, 2590 Park Avenue\, Memphis\, TN\, 38114\, United States
CATEGORIES:Regular
END:VEVENT
BEGIN:VEVENT
DTSTART;TZID=UTC:20250723T180000
DTEND;TZID=UTC:20250723T190000
DTSTAMP:20260425T095837
CREATED:20250325T232843Z
LAST-MODIFIED:20250326T002338Z
UID:10000225-1753293600-1753297200@memphistn.gov
SUMMARY:Yoga in the Park
DESCRIPTION:
URL:https://memphistn.gov/event/yoga-in-the-park-2/2025-07-23/
LOCATION:Marion Hale Community Center\, 4791 Willow Rd\, Memphis\, TN\, Memphis\, TN\, 38117\, United States
CATEGORIES:Regular
END:VEVENT
BEGIN:VEVENT
DTSTART;TZID=UTC:20250724T090000
DTEND;TZID=UTC:20250724T090000
DTSTAMP:20260425T095837
CREATED:20250410T005850Z
LAST-MODIFIED:20250411T022757Z
UID:10000351-1753347600-1753347600@memphistn.gov
SUMMARY:Downtown Memphis Commission Board Meeting
DESCRIPTION:
URL:https://memphistn.gov/event/downtown-memphis-commission-board-meeting-3/
LOCATION:TN
CATEGORIES:Regular
END:VEVENT
BEGIN:VEVENT
DTSTART;TZID=UTC:20250724T090000
DTEND;TZID=UTC:20250724T090000
DTSTAMP:20260425T095837
CREATED:20250411T213348Z
LAST-MODIFIED:20250411T234348Z
UID:10000446-1753347600-1753347600@memphistn.gov
SUMMARY:Pension Board Meeting
DESCRIPTION:
URL:https://memphistn.gov/event/pension-board-meeting-7/
LOCATION:Council Chambers (lobby level)\, 125 North Main Street\, Memphis\, TN\, 38103\, United States
CATEGORIES:Meetings,Regular
END:VEVENT
BEGIN:VEVENT
DTSTART;TZID=UTC:20250724T173000
DTEND;TZID=UTC:20250724T173000
DTSTAMP:20260425T095837
CREATED:20250326T003909Z
LAST-MODIFIED:20250415T204712Z
UID:10000258-1753378200-1753378200@memphistn.gov
SUMMARY:Numbers That Speak: Bookkeeping and Financial Records/Números que Hablan: Contabilidad y Registros Financieros
DESCRIPTION:
URL:https://memphistn.gov/event/numbers-that-speak-bookkeeping-and-financial-records-numeros-que-hablan-contabilidad-y-registros-financieros/
LOCATION:Gaisman Community Center\, 4221 Macon Rd\, memphis\, TN\, 381122\, United States
CATEGORIES:Office of Contract Compliance
END:VEVENT
BEGIN:VEVENT
DTSTART;TZID=America/Chicago:20250726T100000
DTEND;TZID=America/Chicago:20250726T140000
DTSTAMP:20260425T095837
CREATED:20250714T181632Z
LAST-MODIFIED:20250714T183252Z
UID:10000564-1753524000-1753538400@memphistn.gov
SUMMARY:MAS Adoption Event
DESCRIPTION:
URL:https://memphistn.gov/event/mas-adoption-event/2025-07-26/
LOCATION:Petsmart Wolfchase\, 2805 Wolfcreek Parkway\, Memphis\, TN\, 38133\, United States
CATEGORIES:Regular
END:VEVENT
BEGIN:VEVENT
DTSTART;TZID=America/Chicago:20250726T120000
DTEND;TZID=America/Chicago:20250726T140000
DTSTAMP:20260425T095837
CREATED:20250722T194510Z
LAST-MODIFIED:20250722T194510Z
UID:10000594-1753531200-1753538400@memphistn.gov
SUMMARY:Podcast Bootcamp for Teens
DESCRIPTION:
URL:https://memphistn.gov/event/podcast-bootcamp-for-teens/
LOCATION:Cossitt Library\, 33 South Front St.\, Memphis\, TN\, 38103\, United States
CATEGORIES:Regular
END:VEVENT
BEGIN:VEVENT
DTSTART;TZID=America/Chicago:20250726T130000
DTEND;TZID=America/Chicago:20250726T143000
DTSTAMP:20260425T095837
CREATED:20250722T194259Z
LAST-MODIFIED:20250722T194347Z
UID:10000593-1753534800-1753540200@memphistn.gov
SUMMARY:From Homegoing to History: Preserving Family History Through Funeral Programs 
DESCRIPTION:
URL:https://memphistn.gov/event/from-homegoing-to-history-preserving-family-history-through-funeral-programs/
LOCATION:Benjamin L Hooks Central Library\, 3030 Poplar Ave\, Memphis\, 38111\, United States
CATEGORIES:Regular
END:VEVENT
BEGIN:VEVENT
DTSTART;TZID=America/Chicago:20250726T130000
DTEND;TZID=America/Chicago:20250726T160000
DTSTAMP:20260425T095837
CREATED:20250703T182543Z
LAST-MODIFIED:20250703T182622Z
UID:10000557-1753534800-1753545600@memphistn.gov
SUMMARY:Cherokee 50th Anniversary & Back to School Jamboree
DESCRIPTION:
URL:https://memphistn.gov/event/cherokee-50th-anniversary-back-to-school-jamboree/
LOCATION:Cherokee Branch Library\, 3300 Sharpe Ave\, Memphis\, TN\, 38111\, United States
CATEGORIES:Regular
END:VEVENT
BEGIN:VEVENT
DTSTART;TZID=America/Chicago:20250729T120000
DTEND;TZID=America/Chicago:20250729T140000
DTSTAMP:20260425T095837
CREATED:20250716T174539Z
LAST-MODIFIED:20250716T174711Z
UID:10000592-1753790400-1753797600@memphistn.gov
SUMMARY:Pet Cents Academy
DESCRIPTION:
URL:https://memphistn.gov/event/pet-cents-academy/
LOCATION:Raleigh Library\, 3452 Austin Peay Hwy\, Memphis\, TN\, 38128\, United States
CATEGORIES:Regular
END:VEVENT
BEGIN:VEVENT
DTSTART;TZID=America/Chicago:20250730T103000
DTEND;TZID=America/Chicago:20250730T120000
DTSTAMP:20260425T095837
CREATED:20250523T155304Z
LAST-MODIFIED:20250523T155304Z
UID:10000529-1753871400-1753876800@memphistn.gov
SUMMARY:Genealogy Class
DESCRIPTION:
URL:https://memphistn.gov/event/genealogy-class/2025-07-30/
LOCATION:Orange Mound Library\, 843 Dallas St\, Memphis\, 38114\, United States
CATEGORIES:Regular
END:VEVENT
BEGIN:VEVENT
DTSTART;TZID=America/Chicago:20250730T103000
DTEND;TZID=America/Chicago:20250730T120000
DTSTAMP:20260425T095837
CREATED:20250610T193119Z
LAST-MODIFIED:20250610T193216Z
UID:10000543-1753871400-1753876800@memphistn.gov
SUMMARY:Genealogy Class with Teresa Hill Mays
DESCRIPTION:
URL:https://memphistn.gov/event/genealogy-class-with-teresa-hill-mays/2025-07-30/
LOCATION:Orange Mound Community Center\, 2590 Park Avenue\, Memphis\, TN\, 38114\, United States
CATEGORIES:Regular
END:VEVENT
BEGIN:VEVENT
DTSTART;TZID=UTC:20250730T150000
DTEND;TZID=UTC:20250730T163000
DTSTAMP:20260425T095837
CREATED:20250415T234626Z
LAST-MODIFIED:20250415T234626Z
UID:10000469-1753887600-1753893000@memphistn.gov
SUMMARY:MCCC Meeting
DESCRIPTION:
URL:https://memphistn.gov/event/mccc-meeting-4/
LOCATION:Renasant Convention Center Room (101)\, 255 N Main St\, memphis\, TN\, 38103\, United States
CATEGORIES:Meetings,Regular
END:VEVENT
BEGIN:VEVENT
DTSTART;TZID=UTC:20250730T180000
DTEND;TZID=UTC:20250730T190000
DTSTAMP:20260425T095837
CREATED:20250325T232843Z
LAST-MODIFIED:20250326T002338Z
UID:10000226-1753898400-1753902000@memphistn.gov
SUMMARY:Yoga in the Park
DESCRIPTION:
URL:https://memphistn.gov/event/yoga-in-the-park-2/2025-07-30/
LOCATION:Marion Hale Community Center\, 4791 Willow Rd\, Memphis\, TN\, Memphis\, TN\, 38117\, United States
CATEGORIES:Regular
END:VEVENT
END:VCALENDAR