BEGIN:VCALENDAR
VERSION:2.0
PRODID:-//The City of Memphis - ECPv6.15.0//NONSGML v1.0//EN
CALSCALE:GREGORIAN
METHOD:PUBLISH
X-WR-CALNAME:The City of Memphis
X-ORIGINAL-URL:https://memphistn.gov
X-WR-CALDESC:Events for The City of Memphis
REFRESH-INTERVAL;VALUE=DURATION:PT1H
X-Robots-Tag:noindex
X-PUBLISHED-TTL:PT1H
BEGIN:VTIMEZONE
TZID:UTC
BEGIN:STANDARD
TZOFFSETFROM:+0000
TZOFFSETTO:+0000
TZNAME:UTC
DTSTART:20250101T000000
END:STANDARD
END:VTIMEZONE
BEGIN:VEVENT
DTSTART;TZID=UTC:20250205T090000
DTEND;TZID=UTC:20250205T090000
DTSTAMP:20260422T201945
CREATED:20250410T203749Z
LAST-MODIFIED:20250410T203749Z
UID:10000402-1738746000-1738746000@memphistn.gov
SUMMARY:Alcohol Commission Meeting
DESCRIPTION:Filing Deadline: 12:00PM \nWed. January 22nd\, 2025 (Exception) \nPermits Office Contact Information: Email: permits@memphistn.gov \nTelephone: 901-636-6711
URL:https://memphistn.gov/event/alcohol-commission-meeting-20/
LOCATION:City Council Chambers (1st Floor)\, 125 North Main Street\, Memphis\, 38103\, United States
CATEGORIES:Meetings,Regular
END:VEVENT
BEGIN:VEVENT
DTSTART;TZID=UTC:20250206T083000
DTEND;TZID=UTC:20250206T083000
DTSTAMP:20260422T201945
CREATED:20250411T015055Z
LAST-MODIFIED:20250411T015133Z
UID:10000436-1738830600-1738830600@memphistn.gov
SUMMARY:CRA BOARD OF DIRECTORS MEETING
DESCRIPTION:Note: A calendar invite will be sent. Each month\, please let me know if you \nWILL or WILL NOT be attending. If you have any questions\, please contact \nCynthia Durham at the CRA office at \n901-435-6992 x209 or email her at \nCYNTHIA.DURHAM@CRAMEMPHIS.ORG
URL:https://memphistn.gov/event/cra-board-of-directors-meeting-8/
LOCATION:Community Redevelopment Agency Office\, 850 N. Manassas St\, Memphis\, TN\, 38107\, United States
CATEGORIES:Meetings,Regular
END:VEVENT
BEGIN:VEVENT
DTSTART;TZID=UTC:20250206T110000
DTEND;TZID=UTC:20250206T110000
DTSTAMP:20260422T201945
CREATED:20250410T194827Z
LAST-MODIFIED:20250410T200542Z
UID:10000388-1738839600-1738839600@memphistn.gov
SUMMARY:Transportation Commission Meeting
DESCRIPTION:Filing Deadline: 12:00PM \nWed. January 22nd\, 2025 \nPermits Office Contact Information: Email: permits@memphistn.gov \nTelephone: 901-636-6711
URL:https://memphistn.gov/event/transportation-commission-meeting-2/
LOCATION:City Hall (Conference Room A 4th Floor)\, 125 North Main Street\, Memphis\, TN\, 38103\, United States
CATEGORIES:Meetings,Regular
END:VEVENT
BEGIN:VEVENT
DTSTART;TZID=UTC:20250206T173000
DTEND;TZID=UTC:20250206T193000
DTSTAMP:20260422T201945
CREATED:20250204T210519Z
LAST-MODIFIED:20250210T215755Z
UID:10000007-1738863000-1738870200@memphistn.gov
SUMMARY:Whitehaven District Workshop #1 - District Priorities
DESCRIPTION:Feb 06\, 2025\, 5:30 PM – 7:30 PMWhitehaven Community Center\, Raines-Finley Park\, 4318 Graceland Dr\, Memphis\, TN 38116\, USATell us about your neighborhood’s priorities. What goals do you have? What has gotten better? What needs more attention?
URL:https://memphistn.gov/event/whitehaven-district-workshop-1-district-priorities/
LOCATION:TN
CATEGORIES:FEATURED,MEDIA RELEASES
END:VEVENT
BEGIN:VEVENT
DTSTART;TZID=UTC:20250219T090000
DTEND;TZID=UTC:20250219T090000
DTSTAMP:20260422T201945
CREATED:20250410T190025Z
LAST-MODIFIED:20250411T021851Z
UID:10000381-1739955600-1739955600@memphistn.gov
SUMMARY:Center City Development Corporation Board Meeting
DESCRIPTION:Meeting Virtual \nFor more information please \nCLICK HERE 
URL:https://memphistn.gov/event/center-city-development-corporation-board-meeting-11/
LOCATION:TN
CATEGORIES:Regular
END:VEVENT
BEGIN:VEVENT
DTSTART;TZID=UTC:20250219T090000
DTEND;TZID=UTC:20250219T090000
DTSTAMP:20260422T201945
CREATED:20250410T203915Z
LAST-MODIFIED:20250410T203915Z
UID:10000403-1739955600-1739955600@memphistn.gov
SUMMARY:Alcohol Commission Meeting
DESCRIPTION:Filing Deadline: 12:00PM \nWed. February 5th\, 2025 \nPermits Office Contact Information: Email: permits@memphistn.gov \nTelephone: 901-636-6711
URL:https://memphistn.gov/event/alcohol-commission-meeting-21/
LOCATION:City Council Chambers (1st Floor)\, 125 North Main Street\, Memphis\, 38103\, United States
CATEGORIES:Meetings,Regular
END:VEVENT
BEGIN:VEVENT
DTSTART;TZID=UTC:20250221T101500
DTEND;TZID=UTC:20250221T101500
DTSTAMP:20260422T201945
CREATED:20250403T204551Z
LAST-MODIFIED:20250403T204551Z
UID:10000302-1740132900-1740132900@memphistn.gov
SUMMARY:Board of Ethics Meeting
DESCRIPTION:Benjamin L. Hooks Central Library\n3030 Poplar Avenue\nRoom L-56
URL:https://memphistn.gov/event/board-of-ethics-meeting-2/
LOCATION:Benjamin L Hooks Central Library\, 3030 Poplar Ave\, Memphis\, 38111\, United States
CATEGORIES:Board of Ethics,Meetings,Regular
END:VEVENT
BEGIN:VEVENT
DTSTART;TZID=UTC:20250227T090000
DTEND;TZID=UTC:20250227T090000
DTSTAMP:20260422T201945
CREATED:20250411T211047Z
LAST-MODIFIED:20250411T211047Z
UID:10000441-1740646800-1740646800@memphistn.gov
SUMMARY:Pension Board Meeting
DESCRIPTION:
URL:https://memphistn.gov/event/pension-board-meeting-2/
LOCATION:Council Chambers (lobby level)\, 125 North Main Street\, Memphis\, TN\, 38103\, United States
CATEGORIES:Meetings,Regular
END:VEVENT
BEGIN:VEVENT
DTSTART;TZID=UTC:20250228T090000
DTEND;TZID=UTC:20250228T090000
DTSTAMP:20260422T201945
CREATED:20250410T190147Z
LAST-MODIFIED:20250411T022715Z
UID:10000382-1740733200-1740733200@memphistn.gov
SUMMARY:Downtown Memphis Commission Board Meeting
DESCRIPTION:Meeting Virtual \nFor more information please \nCLICK HERE 
URL:https://memphistn.gov/event/downtown-memphis-commission-board-meeting-9/
LOCATION:TN
CATEGORIES:Regular
END:VEVENT
END:VCALENDAR