BEGIN:VCALENDAR
VERSION:2.0
PRODID:-//The City of Memphis - ECPv6.15.0//NONSGML v1.0//EN
CALSCALE:GREGORIAN
METHOD:PUBLISH
X-WR-CALNAME:The City of Memphis
X-ORIGINAL-URL:https://memphistn.gov
X-WR-CALDESC:Events for The City of Memphis
REFRESH-INTERVAL;VALUE=DURATION:PT1H
X-Robots-Tag:noindex
X-PUBLISHED-TTL:PT1H
BEGIN:VTIMEZONE
TZID:America/Chicago
BEGIN:DAYLIGHT
TZOFFSETFROM:-0600
TZOFFSETTO:-0500
TZNAME:CDT
DTSTART:20250309T080000
END:DAYLIGHT
BEGIN:STANDARD
TZOFFSETFROM:-0500
TZOFFSETTO:-0600
TZNAME:CST
DTSTART:20251102T070000
END:STANDARD
END:VTIMEZONE
BEGIN:VTIMEZONE
TZID:UTC
BEGIN:STANDARD
TZOFFSETFROM:+0000
TZOFFSETTO:+0000
TZNAME:UTC
DTSTART:20250101T000000
END:STANDARD
END:VTIMEZONE
BEGIN:VEVENT
DTSTART;TZID=America/Chicago:20250521T143000
DTEND;TZID=America/Chicago:20250521T143000
DTSTAMP:20260423T042639
CREATED:20250520T151538Z
LAST-MODIFIED:20250520T152723Z
UID:10000508-1747837800-1747837800@memphistn.gov
SUMMARY:Economic Development Finance Committee Meeting
DESCRIPTION:You are invited to attend the following meetings: \nWednesday\, May 21\, 2025 \nJunior Achievement of Memphis and the Mid-South \n516 Tillman | Memphis\, TN 38112 \nEconomic Development Finance Committee Meeting \n2:30 p.m. \n1. Call to Order/Roll Call \n2. Chairman’s Opening Comments \n3. Recognition of Committee Member Nita Black \n4. Appointment of Kelly Lomax to Committee Member \n5. Public Comments \n6. Approval of April 16\, 2025 Meeting Minutes \nLOAN OPPORTUNITIES \n7. Magical Memories Enrichment Center \nADMINISTRATIVE ISSUES & REPORTS \n8. Other Remarks for the Good of the Order \n9. Adjourn \nEDGE Board Meeting \n3 p.m. \n1. Call to Order/Roll Call \n2. Chairman’s Opening Comments \n3. Public Comments \n4. Approval of the April 16\, 2025 Board Meeting Minutes \nECONOMIC DEVELOPMENT OPPORTUNITIES \n5. Ampro Industries Inc. PILOT Amendment Request \n6. Grove Studios PILOT Closing Extension Request \n7. Community Partnerships Exploration Resolution \n8. Whitehaven\, Westwood & Oakhaven Economic Development Plan Resolution \nADMINISTRATIVE ISSUES & REPORTS \n9. Other Business \n10. General Counsel Report \n11. President’s Report \n12. Other/Remarks for the Good of the Order \n13. Adjourn \nMeeting Protocol \n Facial coverings are strongly advised for those who are not fully vaccinated. \n					\n									Get Directions\n					 \nThese meetings are open to the public.
URL:https://memphistn.gov/event/economic-development-finance-committee-meeting/
LOCATION:Junior Achievement of Memphis and the Mid-South\, 516 Tilman\, Memphis\, TN\, 38112\, United States
CATEGORIES:Citycouncil Events,Meetings,Regular
END:VEVENT
BEGIN:VEVENT
DTSTART;TZID=UTC:20250521T160000
DTEND;TZID=UTC:20250521T160000
DTSTAMP:20260423T042639
CREATED:20250409T234232Z
LAST-MODIFIED:20250411T022624Z
UID:10000339-1747843200-1747843200@memphistn.gov
SUMMARY:Downtown Mobility Authority Board Meeting
DESCRIPTION:Meeting Virtual \nFor more information please \nCLICK HERE 
URL:https://memphistn.gov/event/downtown-mobility-authority-board-meeting/
CATEGORIES:Regular
END:VEVENT
BEGIN:VEVENT
DTSTART;TZID=UTC:20250521T163000
DTEND;TZID=UTC:20250521T173000
DTSTAMP:20260423T042639
CREATED:20250325T213906Z
LAST-MODIFIED:20250325T213906Z
UID:10000197-1747845000-1747848600@memphistn.gov
SUMMARY:Business Branding for Beginners
DESCRIPTION:Continuing Education and Lifelong Learning Classes – Memphis Public Libraries\nMemphis Public Libraries is providing continuing education and lifelong learning classes designed to give people an opportunity to grow in their professional and personal lives by offering 4 intense weeks of study in various subject areas.\n\n\n\n\n\nMay 7\, 14\, 21\, 28
URL:https://memphistn.gov/event/business-branding-for-beginners/2025-05-21/
LOCATION:East Branch Library\, 7200 E. Shelby Dr\, Memphis\, TN\, 38125\, United States
CATEGORIES:Regular
END:VEVENT
BEGIN:VEVENT
DTSTART;TZID=UTC:20250521T180000
DTEND;TZID=UTC:20250521T190000
DTSTAMP:20260423T042639
CREATED:20250324T213453Z
LAST-MODIFIED:20250324T213453Z
UID:10000132-1747850400-1747854000@memphistn.gov
SUMMARY:Yoga in the Park
DESCRIPTION:
URL:https://memphistn.gov/event/yoga-in-the-park/2025-05-21/
LOCATION:Marion Hale Community Center\, 4791 Willow Rd\, Memphis\, TN\, Memphis\, TN\, 38117\, United States
CATEGORIES:Regular
END:VEVENT
BEGIN:VEVENT
DTSTART;TZID=America/Chicago:20250521T180000
DTEND;TZID=America/Chicago:20250521T190000
DTSTAMP:20260423T042639
CREATED:20250507T163550Z
LAST-MODIFIED:20250507T163550Z
UID:10000505-1747850400-1747854000@memphistn.gov
SUMMARY:How 2 Brand Yourself
DESCRIPTION:
URL:https://memphistn.gov/event/how-2-brand-yourself/
LOCATION:Benjamin L Hooks Central Library\, 3030 Poplar Ave\, Memphis\, 38111\, United States
CATEGORIES:Hcd events,Regular
END:VEVENT
BEGIN:VEVENT
DTSTART;TZID=America/Chicago:20250521T180000
DTEND;TZID=America/Chicago:20250521T200000
DTSTAMP:20260423T042639
CREATED:20250505T182811Z
LAST-MODIFIED:20250505T183341Z
UID:10000483-1747850400-1747857600@memphistn.gov
SUMMARY:Adult Author Workshop with Carnegie Writers
DESCRIPTION:Click link for details: \nhttps://memphis.librarycalendar.com/event/adult-author-workshop-carnegie-writers-23890 
URL:https://memphistn.gov/event/adult-author-workshop-with-carnegie-writers/2025-05-21/
LOCATION:Cossitt Library\, 33 South Front St.\, Memphis\, TN\, 38103\, United States
CATEGORIES:Regular
END:VEVENT
BEGIN:VEVENT
DTSTART;TZID=UTC:20250522T090000
DTEND;TZID=UTC:20250522T090000
DTSTAMP:20260423T042639
CREATED:20250411T211331Z
LAST-MODIFIED:20250411T211742Z
UID:10000444-1747904400-1747904400@memphistn.gov
SUMMARY:Pension Board Meeting
DESCRIPTION:
URL:https://memphistn.gov/event/pension-board-meeting-5/
LOCATION:Council Chambers (lobby level)\, 125 North Main Street\, Memphis\, TN\, 38103\, United States
CATEGORIES:Meetings,Regular
END:VEVENT
BEGIN:VEVENT
DTSTART;TZID=UTC:20250522T163000
DTEND;TZID=UTC:20250522T173000
DTSTAMP:20260423T042639
CREATED:20250325T210118Z
LAST-MODIFIED:20250325T210118Z
UID:10000164-1747931400-1747935000@memphistn.gov
SUMMARY:Public Speaking: Speak the Speech!
DESCRIPTION:Continuing Education and Lifelong Learning Classes – Memphis Public Libraries\nMemphis Public Libraries is providing continuing education and lifelong learning classes designed to give people an opportunity to grow in their professional and personal lives by offering 4 intense weeks of study in various subject areas.\n\n\n\n\n\nMay 1\, 8\, 15\, 22
URL:https://memphistn.gov/event/public-speaking-speak-the-speech/2025-05-22/
LOCATION:Cherokee Branch Library\, 3300 Sharpe Ave\, Memphis\, TN\, 38111\, United States
CATEGORIES:Regular
END:VEVENT
BEGIN:VEVENT
DTSTART;TZID=UTC:20250523T090000
DTEND;TZID=UTC:20250523T090000
DTSTAMP:20260423T042639
CREATED:20250410T001402Z
LAST-MODIFIED:20250411T022809Z
UID:10000341-1747990800-1747990800@memphistn.gov
SUMMARY:Downtown Memphis Commission Board Meeting
DESCRIPTION:Meeting Virtual \nFor more information please \nCLICK HERE 
URL:https://memphistn.gov/event/downtown-memphis-commission-board-meeting/
CATEGORIES:Regular
END:VEVENT
BEGIN:VEVENT
DTSTART;TZID=UTC:20250523T110000
DTEND;TZID=UTC:20250523T120000
DTSTAMP:20260423T042639
CREATED:20250325T210530Z
LAST-MODIFIED:20250325T210530Z
UID:10000169-1747998000-1748001600@memphistn.gov
SUMMARY:Cognitive Harmony: A Symphony of Art\, Music & Mindfulness
DESCRIPTION:Continuing Education and Lifelong Learning Classes – Memphis Public Libraries\nMemphis Public Libraries is providing continuing education and lifelong learning classes designed to give people an opportunity to grow in their professional and personal lives by offering 4 intense weeks of study in various subject areas.\n\n\n\n\n\n\nMay 2\, 9\, 16\, 23
URL:https://memphistn.gov/event/cognitive-harmony-a-symphony-of-art-music-mindfulness/2025-05-23/
CATEGORIES:Regular
END:VEVENT
BEGIN:VEVENT
DTSTART;TZID=UTC:20250523T170000
DTEND;TZID=UTC:20250523T180000
DTSTAMP:20260423T042639
CREATED:20250325T214220Z
LAST-MODIFIED:20250325T214220Z
UID:10000201-1748019600-1748023200@memphistn.gov
SUMMARY:Basic Conversational Spanish
DESCRIPTION:Continuing Education and Lifelong Learning Classes – Memphis Public Libraries\nMemphis Public Libraries is providing continuing education and lifelong learning classes designed to give people an opportunity to grow in their professional and personal lives by offering 4 intense weeks of study in various subject areas.\n\n\n\n\n\nMay 9\, 16\, 23\, 30
URL:https://memphistn.gov/event/basic-conversational-spanish/2025-05-23/
LOCATION:Benjamin L Hooks Central Library\, 3030 Poplar Ave\, Memphis\, 38111\, United States
CATEGORIES:Regular
END:VEVENT
BEGIN:VEVENT
DTSTART;TZID=UTC:20250524T103000
DTEND;TZID=UTC:20250524T113000
DTSTAMP:20260423T042639
CREATED:20250325T211009Z
LAST-MODIFIED:20250325T211009Z
UID:10000174-1748082600-1748086200@memphistn.gov
SUMMARY:Africa Studies in the 901
DESCRIPTION:Continuing Education and Lifelong Learning Classes – Memphis Public Libraries\nMemphis Public Libraries is providing continuing education and lifelong learning classes designed to give people an opportunity to grow in their professional and personal lives by offering 4 intense weeks of study in various subject areas.\n\n\n\n\n\n\nMay 3\, 10\, 17\, 24
URL:https://memphistn.gov/event/africa-studies-in-the-901/2025-05-24/
LOCATION:Raleigh Library\, 3452 Austin Peay Hwy\, Memphis\, TN\, 38128\, United States
CATEGORIES:Regular
END:VEVENT
BEGIN:VEVENT
DTSTART;TZID=UTC:20250524T110000
DTEND;TZID=UTC:20250524T120000
DTSTAMP:20260423T042639
CREATED:20250325T214551Z
LAST-MODIFIED:20250325T214551Z
UID:10000205-1748084400-1748088000@memphistn.gov
SUMMARY:Starting A Business from Scratch
DESCRIPTION:Continuing Education and Lifelong Learning Classes – Memphis Public Libraries\nMemphis Public Libraries is providing continuing education and lifelong learning classes designed to give people an opportunity to grow in their professional and personal lives by offering 4 intense weeks of study in various subject areas.\n\n\n\n\n\nMay 10\, 17\, 24\, 31
URL:https://memphistn.gov/event/starting-a-business-from-scratch/2025-05-24/
LOCATION:Orange Mound Library\, 843 Dallas St\, Memphis\, 38114\, United States
CATEGORIES:Regular
END:VEVENT
BEGIN:VEVENT
DTSTART;TZID=UTC:20250524T110000
DTEND;TZID=UTC:20250524T120000
DTSTAMP:20260423T042639
CREATED:20250325T215028Z
LAST-MODIFIED:20250325T215028Z
UID:10000209-1748084400-1748088000@memphistn.gov
SUMMARY:Self Discipline: Your Key to Having More
DESCRIPTION:Continuing Education and Lifelong Learning Classes – Memphis Public Libraries\nMemphis Public Libraries is providing continuing education and lifelong learning classes designed to give people an opportunity to grow in their professional and personal lives by offering 4 intense weeks of study in various subject areas.\n\n\n\n\n\n\nMay 10\, 17\, 24\, 31
URL:https://memphistn.gov/event/self-discipline-your-key-to-having-more/2025-05-24/
LOCATION:Parkway Village Branch Library\, 4655 Knight Arnold Rd\, Memphis\, TN\, 38118\, United States
CATEGORIES:Regular
END:VEVENT
BEGIN:VEVENT
DTSTART;TZID=UTC:20250524T140000
DTEND;TZID=UTC:20250524T150000
DTSTAMP:20260423T042639
CREATED:20250325T211226Z
LAST-MODIFIED:20250325T211226Z
UID:10000178-1748095200-1748098800@memphistn.gov
SUMMARY:Drumming & Rhythm
DESCRIPTION:Continuing Education and Lifelong Learning Classes – Memphis Public Libraries\nMemphis Public Libraries is providing continuing education and lifelong learning classes designed to give people an opportunity to grow in their professional and personal lives by offering 4 intense weeks of study in various subject areas.\n\n\n\n\n\n\nMay 3\, 10\, 17\, 24
URL:https://memphistn.gov/event/drumming-rhythm/2025-05-24/
LOCATION:Cornelia Crenshaw Branch\, 531 Vance\, Memphis\, 38126\, United States
CATEGORIES:Regular
END:VEVENT
BEGIN:VEVENT
DTSTART;TZID=America/Chicago:20250527T103000
DTEND;TZID=America/Chicago:20250527T120000
DTSTAMP:20260423T042639
CREATED:20250523T155502Z
LAST-MODIFIED:20250523T155532Z
UID:10000530-1748341800-1748347200@memphistn.gov
SUMMARY:AI for Adults
DESCRIPTION:https://memphis.librarycalendar.com/event/ai-seniors-26375\nMay 27
URL:https://memphistn.gov/event/ai-for-adults/
LOCATION:Officer Geoffrey Redd Library\, 5094 Poplar Avenue\, Memphis\, Tennessee\, 38117\, United States
CATEGORIES:Regular
END:VEVENT
BEGIN:VEVENT
DTSTART;TZID=UTC:20250528T093000
DTEND;TZID=UTC:20250528T120000
DTSTAMP:20260423T042639
CREATED:20250325T202112Z
LAST-MODIFIED:20250415T204849Z
UID:10000142-1748424600-1748433600@memphistn.gov
SUMMARY:Government Contract hosted by Tennessee Small Business Development Center
DESCRIPTION:Government contracting is complex\, with strict regulations\, requirements\, and procedures. Workshops help businesses navigate the process\, understand how to bid\, and comply with the necessary legal and financial frameworks.
URL:https://memphistn.gov/event/government-contract-hosted-by-tennessee-small-business-development-center-2/
LOCATION:Entrepreneurs Network Center\, 480 Dr. ML Kings Jr. Ave\, Memphis\, TN\, 38126\, United States
CATEGORIES:Board of Ethics,Office of Contract Compliance
END:VEVENT
BEGIN:VEVENT
DTSTART;TZID=UTC:20250528T150000
DTEND;TZID=UTC:20250528T163000
DTSTAMP:20260423T042639
CREATED:20250415T234355Z
LAST-MODIFIED:20250415T234355Z
UID:10000467-1748444400-1748449800@memphistn.gov
SUMMARY:MCCC Meeting
DESCRIPTION:
URL:https://memphistn.gov/event/mccc-meeting-2/
LOCATION:Renasant Convention Center Room (101)\, 255 N Main St\, memphis\, TN\, 38103\, United States
CATEGORIES:Meetings,Regular
END:VEVENT
BEGIN:VEVENT
DTSTART;TZID=UTC:20250529T080000
DTEND;TZID=UTC:20250529T140000
DTSTAMP:20260423T042639
CREATED:20250415T021332Z
LAST-MODIFIED:20250415T021332Z
UID:10000462-1748505600-1748527200@memphistn.gov
SUMMARY:North Branch 2nd Annual Community Health Fair
DESCRIPTION:Click the link below for more information: \nhttps://memphis.librarycalendar.com/event/north-branch-2nd-annual-community-health-fair-26436
URL:https://memphistn.gov/event/north-branch-2nd-annual-community-health-fair/
LOCATION:North Branch Library\, 1192 Vollintine Ave\, Memphis\, TN\, 38107\, United States
CATEGORIES:Regular
END:VEVENT
BEGIN:VEVENT
DTSTART;TZID=UTC:20250529T173000
DTEND;TZID=UTC:20250529T173000
DTSTAMP:20260423T042639
CREATED:20250325T231512Z
LAST-MODIFIED:20250415T204841Z
UID:10000215-1748539800-1748539800@memphistn.gov
SUMMARY:tu Sueño: Seguro para Negocios
DESCRIPTION:Avoid surprises and safeguard your investment with the right insurance.
URL:https://memphistn.gov/event/tu-sueno-seguro-para-negocios/
LOCATION:Gaisman Community Center\, 4221 Macon Rd\, memphis\, TN\, 381122\, United States
CATEGORIES:Office of Contract Compliance
END:VEVENT
BEGIN:VEVENT
DTSTART;TZID=UTC:20250531T100000
DTEND;TZID=UTC:20250531T150000
DTSTAMP:20260423T042639
CREATED:20250327T022828Z
LAST-MODIFIED:20250327T022839Z
UID:10000298-1748685600-1748703600@memphistn.gov
SUMMARY:Comic Con 2025
DESCRIPTION:https://www.memphislibrary.org/events/mpl-comic-con/
URL:https://memphistn.gov/event/comic-con-2025/
LOCATION:Benjamin L Hooks Central Library\, 3030 Poplar Ave\, Memphis\, 38111\, United States
CATEGORIES:Regular
END:VEVENT
BEGIN:VEVENT
DTSTART;TZID=America/Chicago:20250531T110000
DTEND;TZID=America/Chicago:20250531T120000
DTSTAMP:20260423T042639
CREATED:20250505T185010Z
LAST-MODIFIED:20250505T185136Z
UID:10000493-1748689200-1748692800@memphistn.gov
SUMMARY:Memfis: Historias y Memorias Latino Americanas
DESCRIPTION:Click link for more details: \nhttps://memphis.librarycalendar.com/events/upcoming?keywords=memfis
URL:https://memphistn.gov/event/memfis-historias-y-memorias-latino-americanas/2025-05-31/
LOCATION:Randolph Library Meeting Room (RAN)\, 3752 Given Ave.\, Memphis\, 38122\, United States
CATEGORIES:Regular
END:VEVENT
BEGIN:VEVENT
DTSTART;TZID=America/Chicago:20250531T130000
DTEND;TZID=America/Chicago:20250531T170000
DTSTAMP:20260423T042639
CREATED:20250505T185645Z
LAST-MODIFIED:20250505T185645Z
UID:10000495-1748696400-1748710800@memphistn.gov
SUMMARY:Newborn Jazz & Arts Heritage Festival
DESCRIPTION:Click link for more details: \nhttps://memphis.librarycalendar.com/event/rescheduled-newborn-jazz-and-arts-heritage-festival-26171
URL:https://memphistn.gov/event/newborn-jazz-arts-heritage-festival/
LOCATION:Orange Mound Library Meeting Room A & B (OM)\, 843 Dallas St.\, Memphis\, TN\, 38114\, United States
CATEGORIES:Regular
END:VEVENT
BEGIN:VEVENT
DTSTART;TZID=America/Chicago:20250531T140000
DTEND;TZID=America/Chicago:20250531T180000
DTSTAMP:20260423T042639
CREATED:20250505T185419Z
LAST-MODIFIED:20250505T185419Z
UID:10000494-1748700000-1748714400@memphistn.gov
SUMMARY:Color our World Summer Reading Kickoff
DESCRIPTION:Click link for more details: \nhttps://memphis.librarycalendar.com/event/color-your-world-summer-kickoff-24973 \n 
URL:https://memphistn.gov/event/color-our-world-summer-reading-kickoff/
LOCATION:Raleigh Library\, 3452 Austin Peay Hwy\, Memphis\, TN\, 38128\, United States
CATEGORIES:Regular
END:VEVENT
BEGIN:VEVENT
DTSTART;TZID=America/Chicago:20250601T133000
DTEND;TZID=America/Chicago:20250601T163000
DTSTAMP:20260423T042639
CREATED:20250523T153603Z
LAST-MODIFIED:20250523T153603Z
UID:10000510-1748784600-1748795400@memphistn.gov
SUMMARY:MPL Repair Cafe
DESCRIPTION:https://memphis.librarycalendar.com/event/mpl-repair-cafe-27413
URL:https://memphistn.gov/event/mpl-repair-cafe/
LOCATION:Benjamin L Hooks Central Library\, 3030 Poplar Ave\, Memphis\, 38111\, United States
CATEGORIES:Regular
END:VEVENT
BEGIN:VEVENT
DTSTART;TZID=UTC:20250601T140000
DTEND;TZID=UTC:20250601T140000
DTSTAMP:20260423T042639
CREATED:20250325T232003Z
LAST-MODIFIED:20250325T232003Z
UID:10000216-1748786400-1748786400@memphistn.gov
SUMMARY:Cat Handling Course
DESCRIPTION:If you’re a Level 1 volunteer and would like to progress to Level 2 to handle the cats at our shelter\, attend a Cat Handling Course! You can sign up on our volunteer website\, My Impact\, under the Opportunities Calendar. \n\n\nNot a Level 1 volunteer yet? Watch our online orientation  and submit an application to become a Level 1 volunteer! \n\n\n\n\n\nPlease note that only those 18 and older can handle our shelter animals without adult supervision. For more information\, check out our Get Started Here page.
URL:https://memphistn.gov/event/cat-handling-course-4/
CATEGORIES:Regular
END:VEVENT
BEGIN:VEVENT
DTSTART;TZID=UTC:20250604T090000
DTEND;TZID=UTC:20250604T090000
DTSTAMP:20260423T042639
CREATED:20250410T212342Z
LAST-MODIFIED:20250618T184123Z
UID:10000412-1749027600-1749027600@memphistn.gov
SUMMARY:Alcohol Commission Meeting
DESCRIPTION:Meeting Agenda \nFiling Deadline: 12:00PM \nWed. May 21st\, 2025 \nPermits Office Contact Information: Email: permits@memphistn.gov \nTelephone: 901-636-6711
URL:https://memphistn.gov/event/alcohol-commission-meeting-29/
LOCATION:City Council Chambers (1st Floor)\, 125 North Main Street\, Memphis\, 38103\, United States
CATEGORIES:Meetings,Regular
END:VEVENT
BEGIN:VEVENT
DTSTART;TZID=America/Chicago:20250604T103000
DTEND;TZID=America/Chicago:20250604T110000
DTSTAMP:20260423T042639
CREATED:20250523T154139Z
LAST-MODIFIED:20250523T154139Z
UID:10000511-1749033000-1749034800@memphistn.gov
SUMMARY:Music Therapy Story Time
DESCRIPTION:https://memphis.librarycalendar.com/events/upcoming?keywords=music%20therapy%20story%20time&branches%5B88%5D=88 \nDates:\nJune 4\, 11\, 18\, 25\nJuly 2\, 9\, 16\, 23
URL:https://memphistn.gov/event/music-therapy-story-time/2025-06-04/
LOCATION:Hollywood Branch Library\, 1520 N Hollywood St\, Memphis\, TN\, 38108\, United States
CATEGORIES:Regular
END:VEVENT
BEGIN:VEVENT
DTSTART;TZID=America/Chicago:20250604T110000
DTEND;TZID=America/Chicago:20250604T120000
DTSTAMP:20260423T042639
CREATED:20250523T154330Z
LAST-MODIFIED:20250523T154330Z
UID:10000519-1749034800-1749038400@memphistn.gov
SUMMARY:Crash Course: HBCU Key Reads
DESCRIPTION:https://memphis.librarycalendar.com/event/crash-course-hbcu-key-reads-24897
URL:https://memphistn.gov/event/crash-course-hbcu-key-reads/
LOCATION:Orange Mound Library\, 843 Dallas St\, Memphis\, 38114\, United States
END:VEVENT
BEGIN:VEVENT
DTSTART;TZID=UTC:20250604T160000
DTEND;TZID=UTC:20250604T160000
DTSTAMP:20260423T042639
CREATED:20250410T001719Z
LAST-MODIFIED:20250411T021553Z
UID:10000343-1749052800-1749052800@memphistn.gov
SUMMARY:Design Review Board Meeting
DESCRIPTION:Meeting Virtual \nFor more information please \nCLICK HERE 
URL:https://memphistn.gov/event/design-review-board-meeting-2-2/
CATEGORIES:Regular
END:VEVENT
END:VCALENDAR