BEGIN:VCALENDAR
VERSION:2.0
PRODID:-//The City of Memphis - ECPv6.15.0//NONSGML v1.0//EN
CALSCALE:GREGORIAN
METHOD:PUBLISH
X-WR-CALNAME:The City of Memphis
X-ORIGINAL-URL:https://memphistn.gov
X-WR-CALDESC:Events for The City of Memphis
REFRESH-INTERVAL;VALUE=DURATION:PT1H
X-Robots-Tag:noindex
X-PUBLISHED-TTL:PT1H
BEGIN:VTIMEZONE
TZID:UTC
BEGIN:STANDARD
TZOFFSETFROM:+0000
TZOFFSETTO:+0000
TZNAME:UTC
DTSTART:20250101T000000
END:STANDARD
END:VTIMEZONE
BEGIN:VTIMEZONE
TZID:America/Chicago
BEGIN:DAYLIGHT
TZOFFSETFROM:-0600
TZOFFSETTO:-0500
TZNAME:CDT
DTSTART:20250309T080000
END:DAYLIGHT
BEGIN:STANDARD
TZOFFSETFROM:-0500
TZOFFSETTO:-0600
TZNAME:CST
DTSTART:20251102T070000
END:STANDARD
END:VTIMEZONE
BEGIN:VEVENT
DTSTART;TZID=UTC:20250702T090000
DTEND;TZID=UTC:20250702T090000
DTSTAMP:20260422T193839
CREATED:20250410T212537Z
LAST-MODIFIED:20250711T163419Z
UID:10000414-1751446800-1751446800@memphistn.gov
SUMMARY:Alcohol Commission Meeting
DESCRIPTION:Click here to download Alcohol Commission Meeting Agenda \nClick here to download Alcohol Commission Meeting Minutes \nFiling Deadline: 12:00PM \nWed. June 18th\, 2025 \nPermits Office Contact Information: Email: permits@memphistn.gov \nTelephone: 901-636-6711
URL:https://memphistn.gov/event/alcohol-commission-meeting-31/
LOCATION:City Council Chambers (1st Floor)\, 125 North Main Street\, Memphis\, 38103\, United States
CATEGORIES:Meetings,Regular
END:VEVENT
BEGIN:VEVENT
DTSTART;TZID=America/Chicago:20250702T103000
DTEND;TZID=America/Chicago:20250702T110000
DTSTAMP:20260422T193839
CREATED:20250523T154139Z
LAST-MODIFIED:20250523T154139Z
UID:10000515-1751452200-1751454000@memphistn.gov
SUMMARY:Music Therapy Story Time
DESCRIPTION:https://memphis.librarycalendar.com/events/upcoming?keywords=music%20therapy%20story%20time&branches%5B88%5D=88 \nDates:\nJune 4\, 11\, 18\, 25\nJuly 2\, 9\, 16\, 23
URL:https://memphistn.gov/event/music-therapy-story-time/2025-07-02/
LOCATION:Hollywood Branch Library\, 1520 N Hollywood St\, Memphis\, TN\, 38108\, United States
CATEGORIES:Regular
END:VEVENT
BEGIN:VEVENT
DTSTART;TZID=UTC:20250702T160000
DTEND;TZID=UTC:20250702T160000
DTSTAMP:20260422T193839
CREATED:20250410T002545Z
LAST-MODIFIED:20250411T021602Z
UID:10000347-1751472000-1751472000@memphistn.gov
SUMMARY:Design Review Board Meeting
DESCRIPTION:Meeting Virtual \nFor more information please \nCLICK HERE 
URL:https://memphistn.gov/event/design-review-board-meeting-3/
LOCATION:TN
CATEGORIES:Regular
END:VEVENT
BEGIN:VEVENT
DTSTART;TZID=UTC:20250702T180000
DTEND;TZID=UTC:20250702T190000
DTSTAMP:20260422T193839
CREATED:20250325T232843Z
LAST-MODIFIED:20250326T002338Z
UID:10000222-1751479200-1751482800@memphistn.gov
SUMMARY:Yoga in the Park
DESCRIPTION:
URL:https://memphistn.gov/event/yoga-in-the-park-2/2025-07-02/
LOCATION:Marion Hale Community Center\, 4791 Willow Rd\, Memphis\, TN\, Memphis\, TN\, 38117\, United States
CATEGORIES:Regular
END:VEVENT
BEGIN:VEVENT
DTSTART;TZID=America/Chicago:20250702T180000
DTEND;TZID=America/Chicago:20250702T200000
DTSTAMP:20260422T193839
CREATED:20250505T182811Z
LAST-MODIFIED:20250505T183341Z
UID:10000489-1751479200-1751486400@memphistn.gov
SUMMARY:Adult Author Workshop with Carnegie Writers
DESCRIPTION:Click link for details: \nhttps://memphis.librarycalendar.com/event/adult-author-workshop-carnegie-writers-23890 
URL:https://memphistn.gov/event/adult-author-workshop-with-carnegie-writers/2025-07-02/
LOCATION:Cossitt Library\, 33 South Front St.\, Memphis\, TN\, 38103\, United States
CATEGORIES:Regular
END:VEVENT
BEGIN:VEVENT
DTSTART;TZID=UTC:20250703T083000
DTEND;TZID=UTC:20250703T083000
DTSTAMP:20260422T193839
CREATED:20251222T221628Z
LAST-MODIFIED:20251222T221628Z
UID:10000851-1751531400-1751531400@memphistn.gov
SUMMARY:CRA BOARD OF DIRECTORS MEETING
DESCRIPTION:Note: A calendar invite will be sent. Each month\, please let me know if you \nWILL or WILL NOT be attending. If you have any questions\, please contact \nCynthia Durham at the CRA office at \n901-435-6992 x209 or email her at \nCYNTHIA.DURHAM@CRAMEMPHIS.ORG
URL:https://memphistn.gov/event/cra-board-of-directors-meeting-13/
LOCATION:Community Redevelopment Agency Office\, 850 N. Manassas St\, Memphis\, TN\, 38107\, United States
CATEGORIES:Meetings,Regular
END:VEVENT
BEGIN:VEVENT
DTSTART;TZID=UTC:20250703T110000
DTEND;TZID=UTC:20250703T110000
DTSTAMP:20260422T193839
CREATED:20250410T195350Z
LAST-MODIFIED:20250410T201241Z
UID:10000393-1751540400-1751540400@memphistn.gov
SUMMARY:Transportation Commission Meeting
DESCRIPTION:Filing Deadline: 12:00PM \nWed. July 3rd\, 2025 \nPermits Office Contact Information: Email: permits@memphistn.gov \nTelephone: 901-636-6711
URL:https://memphistn.gov/event/transportation-commission-meeting-7/
LOCATION:City Hall (Conference Room A 4th Floor)\, 125 North Main Street\, Memphis\, TN\, 38103\, United States
CATEGORIES:Meetings,Regular
END:VEVENT
BEGIN:VEVENT
DTSTART;TZID=UTC:20250703T170000
DTEND;TZID=UTC:20250703T210000
DTSTAMP:20260422T193839
CREATED:20250624T161956Z
LAST-MODIFIED:20250624T162151Z
UID:10000548-1751562000-1751576400@memphistn.gov
SUMMARY:Liberty For All - Fireworks
DESCRIPTION:
URL:https://memphistn.gov/event/liberty-for-all-fireworks/
LOCATION:Liberty Park
CATEGORIES:Regular
END:VEVENT
BEGIN:VEVENT
DTSTART;TZID=UTC:20250703T180000
DTEND;TZID=UTC:20250703T210000
DTSTAMP:20260422T193839
CREATED:20250627T123343Z
LAST-MODIFIED:20250627T123604Z
UID:10000550-1751565600-1751576400@memphistn.gov
SUMMARY:Family Fun Friday
DESCRIPTION:Live music and entertainment \nCarnival Rides and Games \nVideo Game Board \nFree Food for the first 100 guests \nFun activities for all Ages \n 
URL:https://memphistn.gov/event/family-fun-friday-2/
LOCATION:Liberty Park
CATEGORIES:Regular
END:VEVENT
BEGIN:VEVENT
DTSTART;TZID=UTC:20250706T140000
DTEND;TZID=UTC:20250706T140000
DTSTAMP:20260422T193839
CREATED:20250326T003036Z
LAST-MODIFIED:20250326T003036Z
UID:10000252-1751810400-1751810400@memphistn.gov
SUMMARY:Cat Handling Course
DESCRIPTION:If you’re a Level 1 volunteer and would like to progress to Level 2 to handle the cats at our shelter\, attend a Cat Handling Course! You can sign up on our volunteer website\, My Impact\, under the Opportunities Calendar. \n\n\nNot a Level 1 volunteer yet? Watch our online orientation  and submit an application to become a Level 1 volunteer! \n\n\n\n\n\nPlease note that only those 18 and older can handle our shelter animals without adult supervision. For more information\, check out our Get Started Here page.
URL:https://memphistn.gov/event/cat-handling-course-6/
LOCATION:TN
CATEGORIES:Regular
END:VEVENT
END:VCALENDAR