BEGIN:VCALENDAR
VERSION:2.0
PRODID:-//The City of Memphis - ECPv6.15.0//NONSGML v1.0//EN
CALSCALE:GREGORIAN
METHOD:PUBLISH
X-ORIGINAL-URL:https://memphistn.gov
X-WR-CALDESC:Events for The City of Memphis
REFRESH-INTERVAL;VALUE=DURATION:PT1H
X-Robots-Tag:noindex
X-PUBLISHED-TTL:PT1H
BEGIN:VTIMEZONE
TZID:UTC
BEGIN:STANDARD
TZOFFSETFROM:+0000
TZOFFSETTO:+0000
TZNAME:UTC
DTSTART:20250101T000000
END:STANDARD
END:VTIMEZONE
BEGIN:VEVENT
DTSTART;TZID=UTC:20251105T080000
DTEND;TZID=UTC:20251105T170000
DTSTAMP:20260420T000618
CREATED:20250409T185605Z
LAST-MODIFIED:20250409T185605Z
UID:10000331-1762329600-1762362000@memphistn.gov
SUMMARY:Board of Ethics Meeting
DESCRIPTION:Benjamin L. Hooks Central Library\n3030 Poplar Avenue\nRoom L-56
URL:https://memphistn.gov/event/board-of-ethics-meeting-9/
LOCATION:Benjamin L Hooks Central Library\, 3030 Poplar Ave\, Memphis\, 38111\, United States
CATEGORIES:Board of Ethics,Meetings,Regular
END:VEVENT
BEGIN:VEVENT
DTSTART;TZID=UTC:20251105T090000
DTEND;TZID=UTC:20251105T090000
DTSTAMP:20260420T000618
CREATED:20250410T213713Z
LAST-MODIFIED:20251119T181719Z
UID:10000422-1762333200-1762333200@memphistn.gov
SUMMARY:Alcohol Commission Meeting
DESCRIPTION:Filing Deadline: 12:00PM \nWed. October 15th\, 2025  \nAlcohol Commission Meeting Agenda \nAlcohol Commission Meeting Minutes \nPermits Office Contact Information: Email: permits@memphistn.gov \nTelephone: 901-636-6711
URL:https://memphistn.gov/event/alcohol-commission-meeting-39/
LOCATION:City Council Chambers (1st Floor)\, 125 North Main Street\, Memphis\, 38103\, United States
CATEGORIES:Meetings,Regular
END:VEVENT
BEGIN:VEVENT
DTSTART;TZID=UTC:20251105T160000
DTEND;TZID=UTC:20251105T160000
DTSTAMP:20260420T000618
CREATED:20250410T012816Z
LAST-MODIFIED:20250411T021639Z
UID:10000365-1762358400-1762358400@memphistn.gov
SUMMARY:Design Review Board Meeting
DESCRIPTION:Meeting Virtual \nFor more information please \nCLICK HERE
URL:https://memphistn.gov/event/design-review-board-meeting-7/
LOCATION:TN
CATEGORIES:Regular
END:VEVENT
BEGIN:VEVENT
DTSTART;TZID=UTC:20251105T180000
DTEND;TZID=UTC:20251105T190000
DTSTAMP:20260420T000618
CREATED:20250325T232843Z
LAST-MODIFIED:20250326T002338Z
UID:10000240-1762365600-1762369200@memphistn.gov
SUMMARY:Yoga in the Park
DESCRIPTION:
URL:https://memphistn.gov/event/yoga-in-the-park-2/2025-11-05/
LOCATION:Marion Hale Community Center\, 4791 Willow Rd\, Memphis\, TN\, Memphis\, TN\, 38117\, United States
CATEGORIES:Regular
END:VEVENT
END:VCALENDAR