BEGIN:VCALENDAR
VERSION:2.0
PRODID:-//The City of Memphis - ECPv6.15.0//NONSGML v1.0//EN
CALSCALE:GREGORIAN
METHOD:PUBLISH
X-ORIGINAL-URL:https://memphistn.gov
X-WR-CALDESC:Events for The City of Memphis
REFRESH-INTERVAL;VALUE=DURATION:PT1H
X-Robots-Tag:noindex
X-PUBLISHED-TTL:PT1H
BEGIN:VTIMEZONE
TZID:America/Chicago
BEGIN:DAYLIGHT
TZOFFSETFROM:-0600
TZOFFSETTO:-0500
TZNAME:CDT
DTSTART:20250309T080000
END:DAYLIGHT
BEGIN:STANDARD
TZOFFSETFROM:-0500
TZOFFSETTO:-0600
TZNAME:CST
DTSTART:20251102T070000
END:STANDARD
END:VTIMEZONE
BEGIN:VTIMEZONE
TZID:UTC
BEGIN:STANDARD
TZOFFSETFROM:+0000
TZOFFSETTO:+0000
TZNAME:UTC
DTSTART:20250101T000000
END:STANDARD
END:VTIMEZONE
BEGIN:VEVENT
DTSTART;TZID=America/Chicago:20250712T110000
DTEND;TZID=America/Chicago:20250712T150000
DTSTAMP:20260424T101024
CREATED:20250703T181331Z
LAST-MODIFIED:20250703T183004Z
UID:10000555-1752318000-1752332400@memphistn.gov
SUMMARY:Let Me Tell You About Cossitt: A Teen's Perspective Performance
DESCRIPTION:For details click the link: https://memphis.librarycalendar.com/event/let-me-tell-you-about-cossitt-teens-perspective-performance-27020
URL:https://memphistn.gov/event/let-me-tell-you-about-cossitt-a-teens-perspective-performance/
LOCATION:Cossitt Library\, 33 South Front St.\, Memphis\, TN\, 38103\, United States
CATEGORIES:Regular
END:VEVENT
BEGIN:VEVENT
DTSTART;TZID=America/Chicago:20250712T130000
DTEND;TZID=America/Chicago:20250712T143000
DTSTAMP:20260424T101024
CREATED:20250523T155304Z
LAST-MODIFIED:20250523T155304Z
UID:10000526-1752325200-1752330600@memphistn.gov
SUMMARY:Genealogy Class
DESCRIPTION:https://memphis.librarycalendar.com/events/upcoming?keywords=genealogy%20class\n\nDates: July 12\, 19\, 23\, 30
URL:https://memphistn.gov/event/genealogy-class/2025-07-12/
LOCATION:Orange Mound Library\, 843 Dallas St\, Memphis\, 38114\, United States
CATEGORIES:Regular
END:VEVENT
BEGIN:VEVENT
DTSTART;TZID=America/Chicago:20250712T130000
DTEND;TZID=America/Chicago:20250712T143000
DTSTAMP:20260424T101024
CREATED:20250610T193119Z
LAST-MODIFIED:20250610T193216Z
UID:10000540-1752325200-1752330600@memphistn.gov
SUMMARY:Genealogy Class with Teresa Hill Mays
DESCRIPTION:For more information click the link below: \nhttps://memphis.librarycalendar.com/events/upcoming?keywords=african%20american%20research%20for%20beginners
URL:https://memphistn.gov/event/genealogy-class-with-teresa-hill-mays/2025-07-12/
LOCATION:Orange Mound Community Center\, 2590 Park Avenue\, Memphis\, TN\, 38114\, United States
CATEGORIES:Regular
END:VEVENT
BEGIN:VEVENT
DTSTART;TZID=UTC:20250712T140000
DTEND;TZID=UTC:20250712T140000
DTSTAMP:20260424T101024
CREATED:20250326T003435Z
LAST-MODIFIED:20250326T003435Z
UID:10000254-1752328800-1752328800@memphistn.gov
SUMMARY:Cat Handling Course
DESCRIPTION:If you’re a Level 1 volunteer and would like to progress to Level 2 to handle the cats at our shelter\, attend a Cat Handling Course! You can sign up on our volunteer website\, My Impact\, under the Opportunities Calendar. \n\n\nNot a Level 1 volunteer yet? Watch our online orientation  and submit an application to become a Level 1 volunteer! \n\n\n\n\n\nPlease note that only those 18 and older can handle our shelter animals without adult supervision. For more information\, check out our Get Started Here page
URL:https://memphistn.gov/event/cat-handling-course-7/2025-07-12/
LOCATION:TN
CATEGORIES:Regular
END:VEVENT
END:VCALENDAR