BEGIN:VCALENDAR
VERSION:2.0
PRODID:-//The City of Memphis - ECPv6.15.0//NONSGML v1.0//EN
CALSCALE:GREGORIAN
METHOD:PUBLISH
X-WR-CALNAME:The City of Memphis
X-ORIGINAL-URL:https://memphistn.gov
X-WR-CALDESC:Events for The City of Memphis
REFRESH-INTERVAL;VALUE=DURATION:PT1H
X-Robots-Tag:noindex
X-PUBLISHED-TTL:PT1H
BEGIN:VTIMEZONE
TZID:America/Chicago
BEGIN:DAYLIGHT
TZOFFSETFROM:-0600
TZOFFSETTO:-0500
TZNAME:CDT
DTSTART:20250309T080000
END:DAYLIGHT
BEGIN:STANDARD
TZOFFSETFROM:-0500
TZOFFSETTO:-0600
TZNAME:CST
DTSTART:20251102T070000
END:STANDARD
END:VTIMEZONE
BEGIN:VTIMEZONE
TZID:UTC
BEGIN:STANDARD
TZOFFSETFROM:+0000
TZOFFSETTO:+0000
TZNAME:UTC
DTSTART:20250101T000000
END:STANDARD
END:VTIMEZONE
BEGIN:VEVENT
DTSTART;TZID=America/Chicago:20250625T103000
DTEND;TZID=America/Chicago:20250625T110000
DTSTAMP:20260420T202826
CREATED:20250523T154139Z
LAST-MODIFIED:20250523T154139Z
UID:10000514-1750847400-1750849200@memphistn.gov
SUMMARY:Music Therapy Story Time
DESCRIPTION:https://memphis.librarycalendar.com/events/upcoming?keywords=music%20therapy%20story%20time&branches%5B88%5D=88 \nDates:\nJune 4\, 11\, 18\, 25\nJuly 2\, 9\, 16\, 23
URL:https://memphistn.gov/event/music-therapy-story-time/2025-06-25/
LOCATION:Hollywood Branch Library\, 1520 N Hollywood St\, Memphis\, TN\, 38108\, United States
CATEGORIES:Regular
END:VEVENT
BEGIN:VEVENT
DTSTART;TZID=UTC:20250625T180000
DTEND;TZID=UTC:20250625T190000
DTSTAMP:20260420T202826
CREATED:20250325T232843Z
LAST-MODIFIED:20250326T002338Z
UID:10000221-1750874400-1750878000@memphistn.gov
SUMMARY:Yoga in the Park
DESCRIPTION:
URL:https://memphistn.gov/event/yoga-in-the-park-2/2025-06-25/
LOCATION:Marion Hale Community Center\, 4791 Willow Rd\, Memphis\, TN\, Memphis\, TN\, 38117\, United States
CATEGORIES:Regular
END:VEVENT
BEGIN:VEVENT
DTSTART;TZID=America/Chicago:20250625T180000
DTEND;TZID=America/Chicago:20250625T200000
DTSTAMP:20260420T202826
CREATED:20250505T182811Z
LAST-MODIFIED:20250505T183341Z
UID:10000488-1750874400-1750881600@memphistn.gov
SUMMARY:Adult Author Workshop with Carnegie Writers
DESCRIPTION:Click link for details: \nhttps://memphis.librarycalendar.com/event/adult-author-workshop-carnegie-writers-23890 
URL:https://memphistn.gov/event/adult-author-workshop-with-carnegie-writers/2025-06-25/
LOCATION:Cossitt Library\, 33 South Front St.\, Memphis\, TN\, 38103\, United States
CATEGORIES:Regular
END:VEVENT
END:VCALENDAR