BEGIN:VCALENDAR
VERSION:2.0
PRODID:-//The City of Memphis - ECPv6.15.0//NONSGML v1.0//EN
CALSCALE:GREGORIAN
METHOD:PUBLISH
X-WR-CALNAME:The City of Memphis
X-ORIGINAL-URL:https://memphistn.gov
X-WR-CALDESC:Events for The City of Memphis
REFRESH-INTERVAL;VALUE=DURATION:PT1H
X-Robots-Tag:noindex
X-PUBLISHED-TTL:PT1H
BEGIN:VTIMEZONE
TZID:UTC
BEGIN:STANDARD
TZOFFSETFROM:+0000
TZOFFSETTO:+0000
TZNAME:UTC
DTSTART:20250101T000000
END:STANDARD
END:VTIMEZONE
BEGIN:VTIMEZONE
TZID:America/Chicago
BEGIN:DAYLIGHT
TZOFFSETFROM:-0600
TZOFFSETTO:-0500
TZNAME:CDT
DTSTART:20250309T080000
END:DAYLIGHT
BEGIN:STANDARD
TZOFFSETFROM:-0500
TZOFFSETTO:-0600
TZNAME:CST
DTSTART:20251102T070000
END:STANDARD
END:VTIMEZONE
BEGIN:VEVENT
DTSTART;TZID=UTC:20250507T080000
DTEND;TZID=UTC:20250507T170000
DTSTAMP:20260421T025847
CREATED:20250409T185220Z
LAST-MODIFIED:20250409T185220Z
UID:10000325-1746604800-1746637200@memphistn.gov
SUMMARY:Board of Ethics Meeting
DESCRIPTION:Benjamin L. Hooks Central Library\n3030 Poplar Avenue\nRoom L-56
URL:https://memphistn.gov/event/board-of-ethics-meeting-3/
LOCATION:Benjamin L Hooks Central Library\, 3030 Poplar Ave\, Memphis\, 38111\, United States
CATEGORIES:Board of Ethics,Meetings,Regular
END:VEVENT
BEGIN:VEVENT
DTSTART;TZID=America/Chicago:20250507T090000
DTEND;TZID=America/Chicago:20250507T090000
DTSTAMP:20260421T025847
CREATED:20250502T184849Z
LAST-MODIFIED:20250521T160603Z
UID:10000479-1746608400-1746608400@memphistn.gov
SUMMARY:Alcohol Commission meeting
DESCRIPTION:Filing Deadline: 12:00PM \nWed. April 16th\, 2025 \nPermits Office Contact Information: Email: permits@memphistn.gov \nTelephone: 901-636-6711 \nDownload Documents \nAlcohol Commission Meeting Agenda \nApril2\,2025ACMtg.SignedMinutes \n5-7-25ACMeetingMinutes
URL:https://memphistn.gov/event/alcohol-commission-meeting-4/
LOCATION:125 North Main – City Council Chambers (1st Floor)\, 125 North Main Street\, Memphis\, TN\, 38103\, United States
CATEGORIES:Meetings,Regular
END:VEVENT
BEGIN:VEVENT
DTSTART;TZID=UTC:20250507T160000
DTEND;TZID=UTC:20250507T160000
DTSTAMP:20260421T025847
CREATED:20250409T232415Z
LAST-MODIFIED:20250411T021544Z
UID:10000337-1746633600-1746633600@memphistn.gov
SUMMARY:Design Review  Board Meeting
DESCRIPTION:Meeting Virtual \nFor more information please \nCLICK HERE 
URL:https://memphistn.gov/event/design-review-board-meeting-2/
LOCATION:TN
CATEGORIES:Regular
END:VEVENT
BEGIN:VEVENT
DTSTART;TZID=UTC:20250507T160000
DTEND;TZID=UTC:20250507T170000
DTSTAMP:20260421T025847
CREATED:20250325T204112Z
LAST-MODIFIED:20250325T204123Z
UID:10000152-1746633600-1746637200@memphistn.gov
SUMMARY:A.I.\, ChatGPT & The Future of Innovation
DESCRIPTION:Continuing Education and Lifelong Learning Classes – Memphis Public Libraries\nMemphis Public Libraries is providing continuing education and lifelong learning classes designed to give people an opportunity to grow in their professional and personal lives by offering 4 intense weeks of study in various subject areas.\n\n\n\n\n\nApril 23\, 30\nMay 7\, 14
URL:https://memphistn.gov/event/a-i-chatgpt-the-future-of-innovation/2025-05-07/
LOCATION:Hollywood Branch Library\, 1520 N Hollywood St\, Memphis\, TN\, 38108\, United States
CATEGORIES:Regular
END:VEVENT
BEGIN:VEVENT
DTSTART;TZID=UTC:20250507T163000
DTEND;TZID=UTC:20250507T173000
DTSTAMP:20260421T025847
CREATED:20250325T213906Z
LAST-MODIFIED:20250325T213906Z
UID:10000195-1746635400-1746639000@memphistn.gov
SUMMARY:Business Branding for Beginners
DESCRIPTION:Continuing Education and Lifelong Learning Classes – Memphis Public Libraries\nMemphis Public Libraries is providing continuing education and lifelong learning classes designed to give people an opportunity to grow in their professional and personal lives by offering 4 intense weeks of study in various subject areas.\n\n\n\n\n\nMay 7\, 14\, 21\, 28
URL:https://memphistn.gov/event/business-branding-for-beginners/2025-05-07/
LOCATION:East Branch Library\, 7200 E. Shelby Dr\, Memphis\, TN\, 38125\, United States
CATEGORIES:Regular
END:VEVENT
BEGIN:VEVENT
DTSTART;TZID=UTC:20250507T180000
DTEND;TZID=UTC:20250507T190000
DTSTAMP:20260421T025847
CREATED:20250324T213453Z
LAST-MODIFIED:20250324T213453Z
UID:10000130-1746640800-1746644400@memphistn.gov
SUMMARY:Yoga in the Park
DESCRIPTION:
URL:https://memphistn.gov/event/yoga-in-the-park/2025-05-07/
LOCATION:Marion Hale Community Center\, 4791 Willow Rd\, Memphis\, TN\, Memphis\, TN\, 38117\, United States
CATEGORIES:Regular
END:VEVENT
END:VCALENDAR