BEGIN:VCALENDAR
VERSION:2.0
PRODID:-//The City of Memphis - ECPv6.15.0//NONSGML v1.0//EN
CALSCALE:GREGORIAN
METHOD:PUBLISH
X-WR-CALNAME:The City of Memphis
X-ORIGINAL-URL:https://memphistn.gov
X-WR-CALDESC:Events for The City of Memphis
REFRESH-INTERVAL;VALUE=DURATION:PT1H
X-Robots-Tag:noindex
X-PUBLISHED-TTL:PT1H
BEGIN:VTIMEZONE
TZID:UTC
BEGIN:STANDARD
TZOFFSETFROM:+0000
TZOFFSETTO:+0000
TZNAME:UTC
DTSTART:20250101T000000
END:STANDARD
END:VTIMEZONE
BEGIN:VEVENT
DTSTART;TZID=UTC:20250422T090000
DTEND;TZID=UTC:20250422T090000
DTSTAMP:20260422T235135
CREATED:20250408T231803Z
LAST-MODIFIED:20250409T194348Z
UID:10000306-1745312400-1745312400@memphistn.gov
SUMMARY:City Council Meeting
DESCRIPTION:For City Council Meeting Agendas\, and Documents \nClick Here
URL:https://memphistn.gov/event/city-council-meeting/
LOCATION:125 N. Main\, 125 N. Main\, Memphis\, TN\, 38103\, United States
CATEGORIES:Citycouncil Events,Regular
END:VEVENT
BEGIN:VEVENT
DTSTART;TZID=UTC:20250422T160000
DTEND;TZID=UTC:20250422T170000
DTSTAMP:20260422T235135
CREATED:20250324T190805Z
LAST-MODIFIED:20250324T190805Z
UID:10000042-1745337600-1745341200@memphistn.gov
SUMMARY:Piano Playing Using Math Concepts
DESCRIPTION:Continuing Education and Lifelong Learning Classes – Memphis Public Libraries\nMemphis Public Libraries is providing continuing education and lifelong learning classes designed to give people an opportunity to grow in their professional and personal lives by offering 4 intense weeks of study in various subject areas.\n\n\n\n\n\n\nApril 1\, 8\, 15\, 22
URL:https://memphistn.gov/event/piano-playing-using-math-concepts/2025-04-22/
LOCATION:Officer Geoffrey Redd Library\, 5094 Poplar Avenue\, Memphis\, Tennessee\, 38117\, United States
CATEGORIES:Regular
END:VEVENT
BEGIN:VEVENT
DTSTART;TZID=UTC:20250422T160000
DTEND;TZID=UTC:20250422T170000
DTSTAMP:20260422T235135
CREATED:20250324T210900Z
LAST-MODIFIED:20250324T210923Z
UID:10000115-1745337600-1745341200@memphistn.gov
SUMMARY:Introduction to Spanish
DESCRIPTION:Continuing Education and Lifelong Learning Classes – Memphis Public Libraries\nMemphis Public Libraries is providing continuing education and lifelong learning classes designed to give people an opportunity to grow in their professional and personal lives by offering 4 intense weeks of study in various subject areas.\nApril 8\, 15\, 22\, 29
URL:https://memphistn.gov/event/introduction-to-spanish/2025-04-22/
LOCATION:Cordova Library\, 8457 Trinity Rd\, Memphis\, TN\, 38018\, United States
CATEGORIES:Regular
END:VEVENT
BEGIN:VEVENT
DTSTART;TZID=UTC:20250422T160000
DTEND;TZID=UTC:20250422T180000
DTSTAMP:20260422T235135
CREATED:20250327T021946Z
LAST-MODIFIED:20250327T022031Z
UID:10000293-1745337600-1745344800@memphistn.gov
SUMMARY:Earth Day Marble Run Extravaganza
DESCRIPTION:https://memphis.librarycalendar.com/event/earth-day-marble-run-extravaganza-20321
URL:https://memphistn.gov/event/earth-day-marble-run-extravaganza/
LOCATION:Raleigh Library\, 3452 Austin Peay Hwy\, Memphis\, TN\, 38128\, United States
CATEGORIES:Regular
END:VEVENT
END:VCALENDAR