BEGIN:VCALENDAR
VERSION:2.0
PRODID:-//The City of Memphis - ECPv6.15.0//NONSGML v1.0//EN
CALSCALE:GREGORIAN
METHOD:PUBLISH
X-ORIGINAL-URL:https://memphistn.gov
X-WR-CALDESC:Events for The City of Memphis
REFRESH-INTERVAL;VALUE=DURATION:PT1H
X-Robots-Tag:noindex
X-PUBLISHED-TTL:PT1H
BEGIN:VTIMEZONE
TZID:UTC
BEGIN:STANDARD
TZOFFSETFROM:+0000
TZOFFSETTO:+0000
TZNAME:UTC
DTSTART:20250101T000000
END:STANDARD
END:VTIMEZONE
BEGIN:VEVENT
DTSTART;TZID=UTC:20250419T080000
DTEND;TZID=UTC:20250419T170000
DTSTAMP:20260425T205218
CREATED:20250324T205222Z
LAST-MODIFIED:20250324T205222Z
UID:10000086-1745049600-1745082000@memphistn.gov
SUMMARY:Prioritizing Mental Health (Vibes & Boundaries)
DESCRIPTION:Continuing Education and Lifelong Learning Classes – Memphis Public Libraries\nMemphis Public Libraries is providing continuing education and lifelong learning classes designed to give people an opportunity to grow in their professional and personal lives by offering 4 intense weeks of study in various subject areas.\n\n\n\n\n\n\nApril 5\, 12\, 19\, 26
URL:https://memphistn.gov/event/prioritizing-mental-health-vibes-boundaries/2025-04-19/
LOCATION:Levi Branch Library\, 3376 S 3rd St\, Memphis\, TN\, 38109\, United States
CATEGORIES:Regular
END:VEVENT
BEGIN:VEVENT
DTSTART;TZID=UTC:20250419T090000
DTEND;TZID=UTC:20250419T090000
DTSTAMP:20260425T205218
CREATED:20250410T013203Z
LAST-MODIFIED:20250411T021916Z
UID:10000367-1745053200-1745053200@memphistn.gov
SUMMARY:Center City Development Corporation Board Meeting
DESCRIPTION:Meeting Virtual \nFor more information please \nCLICK HERE
URL:https://memphistn.gov/event/center-city-development-corporation-board-meeting-7/
LOCATION:TN
CATEGORIES:Regular
END:VEVENT
BEGIN:VEVENT
DTSTART;TZID=UTC:20250419T110000
DTEND;TZID=UTC:20250419T120000
DTSTAMP:20260425T205218
CREATED:20250324T203847Z
LAST-MODIFIED:20250324T203907Z
UID:10000066-1745060400-1745064000@memphistn.gov
SUMMARY:Flip the Script: Rewrite Your Financial Story
DESCRIPTION:Continuing Education and Lifelong Learning Classes – Memphis Public Libraries\nMemphis Public Libraries is providing continuing education and lifelong learning classes designed to give people an opportunity to grow in their professional and personal lives by offering 4 intense weeks of study in various subject areas.\n\n\n\n\n\n\nApril 5\, 12\, 19\, 26
URL:https://memphistn.gov/event/flip-the-script-rewrite-your-financial-story/2025-04-19/
LOCATION:Hollywood Branch Library\, 1520 N Hollywood St\, Memphis\, TN\, 38108\, United States
CATEGORIES:Regular
END:VEVENT
BEGIN:VEVENT
DTSTART;TZID=UTC:20250419T123000
DTEND;TZID=UTC:20250419T143000
DTSTAMP:20260425T205218
CREATED:20250327T021107Z
LAST-MODIFIED:20250327T021132Z
UID:10000292-1745065800-1745073000@memphistn.gov
SUMMARY:Going to Mars:
DESCRIPTION:https://memphis.librarycalendar.com/event/going-mars-nikki-giovanni-project-21536
URL:https://memphistn.gov/event/going-to-mars/
LOCATION:Orange Mound Library\, 843 Dallas St\, Memphis\, 38114\, United States
CATEGORIES:Regular
END:VEVENT
BEGIN:VEVENT
DTSTART;TZID=UTC:20250419T130000
DTEND;TZID=UTC:20250419T140000
DTSTAMP:20260425T205218
CREATED:20250324T204526Z
LAST-MODIFIED:20250324T204537Z
UID:10000074-1745067600-1745071200@memphistn.gov
SUMMARY:Filmmaking with Your Smartphone
DESCRIPTION:Continuing Education and Lifelong Learning Classes – Memphis Public Libraries\nMemphis Public Libraries is providing continuing education and lifelong learning classes designed to give people an opportunity to grow in their professional and personal lives by offering 4 intense weeks of study in various subject areas.\n\n\n\n\n\nApril 5\, 12\, 19\, 26
URL:https://memphistn.gov/event/filmmaking-with-your-smartphone/2025-04-19/
LOCATION:Hollywood Branch Library\, 1520 N Hollywood St\, Memphis\, TN\, 38108\, United States
CATEGORIES:Regular
END:VEVENT
BEGIN:VEVENT
DTSTART;TZID=UTC:20250419T130000
DTEND;TZID=UTC:20250419T140000
DTSTAMP:20260425T205218
CREATED:20250325T203741Z
LAST-MODIFIED:20250325T203741Z
UID:10000149-1745067600-1745071200@memphistn.gov
SUMMARY:Dog Handling Course
DESCRIPTION:If you’re a Level 1 volunteer and would like to progress to Level 2 to handle the dogs at our shelter\, attend a Dog Handling Course! You can sign up on our volunteer website\, My Impact\, under the Opportunities Calendar.  \n\nNot a Level 1 volunteer yet? Watch our online orientation  and submit an application to become a Level 1 volunteer! \n\n\n\n\nPlease note that only those 18 and older can handle our shelter animals without adult supervision. For more information\, check out our Get Started Here page.
URL:https://memphistn.gov/event/dog-handling-course/
LOCATION:TN
CATEGORIES:Regular
END:VEVENT
BEGIN:VEVENT
DTSTART;TZID=UTC:20250419T130000
DTEND;TZID=UTC:20250419T170000
DTSTAMP:20260425T205218
CREATED:20250324T204304Z
LAST-MODIFIED:20250324T204304Z
UID:10000070-1745067600-1745082000@memphistn.gov
SUMMARY:DIY Small Claim Court Filing
DESCRIPTION:Continuing Education and Lifelong Learning Classes – Memphis Public Libraries\nMemphis Public Libraries is providing continuing education and lifelong learning classes designed to give people an opportunity to grow in their professional and personal lives by offering 4 intense weeks of study in various subject areas.\n\n\n\n\n\nApril 5\, 12\, 19\, 26
URL:https://memphistn.gov/event/diy-small-claim-court-filing/2025-04-19/
LOCATION:https://teams.microsoft.com/l/meetup-join/19%3ameeting_NzM0YjdlY2MtYzZiZC00ODRhLTg1ODUtMzdjNjdhMzYyYmFh%40thread.v2/0?context=%7B%22Tid%22%3A%2241647561-6537-4423-96a9-859e89f8919f%22%2C%22Oid%22%3A%2200692c37-0560-49f2-b7f1-77ac8a8dd9d1%22%7D
CATEGORIES:Regular
END:VEVENT
BEGIN:VEVENT
DTSTART;TZID=UTC:20250419T150000
DTEND;TZID=UTC:20250419T160000
DTSTAMP:20260425T205218
CREATED:20250324T204819Z
LAST-MODIFIED:20250324T204819Z
UID:10000078-1745074800-1745078400@memphistn.gov
SUMMARY:Drawing Techniques: A Beginner’s Guide
DESCRIPTION:Continuing Education and Lifelong Learning Classes – Memphis Public Libraries\nMemphis Public Libraries is providing continuing education and lifelong learning classes designed to give people an opportunity to grow in their professional and personal lives by offering 4 intense weeks of study in various subject areas.\nApril 5\, 12\, 19\, 26
URL:https://memphistn.gov/event/drawing-techniques-a-beginners-guide/2025-04-19/
LOCATION:Hollywood Branch Library\, 1520 N Hollywood St\, Memphis\, TN\, 38108\, United States
CATEGORIES:Regular
END:VEVENT
BEGIN:VEVENT
DTSTART;TZID=UTC:20250419T160000
DTEND;TZID=UTC:20250419T170000
DTSTAMP:20260425T205218
CREATED:20250324T205009Z
LAST-MODIFIED:20250324T205026Z
UID:10000082-1745078400-1745082000@memphistn.gov
SUMMARY:Painting with Color & Nature
DESCRIPTION:Continuing Education and Lifelong Learning Classes – Memphis Public Libraries\nMemphis Public Libraries is providing continuing education and lifelong learning classes designed to give people an opportunity to grow in their professional and personal lives by offering 4 intense weeks of study in various subject areas.\n\n\nApril 5\, 12\, 19\, 26
URL:https://memphistn.gov/event/painting-with-color-nature/2025-04-19/
LOCATION:Hollywood Branch Library\, 1520 N Hollywood St\, Memphis\, TN\, 38108\, United States
CATEGORIES:Regular
END:VEVENT
END:VCALENDAR