BEGIN:VCALENDAR
VERSION:2.0
PRODID:-//The City of Memphis - ECPv6.15.0//NONSGML v1.0//EN
CALSCALE:GREGORIAN
METHOD:PUBLISH
X-WR-CALNAME:The City of Memphis
X-ORIGINAL-URL:https://memphistn.gov
X-WR-CALDESC:Events for The City of Memphis
REFRESH-INTERVAL;VALUE=DURATION:PT1H
X-Robots-Tag:noindex
X-PUBLISHED-TTL:PT1H
BEGIN:VTIMEZONE
TZID:UTC
BEGIN:STANDARD
TZOFFSETFROM:+0000
TZOFFSETTO:+0000
TZNAME:UTC
DTSTART:20250101T000000
END:STANDARD
END:VTIMEZONE
BEGIN:VEVENT
DTSTART;TZID=UTC:20251105T080000
DTEND;TZID=UTC:20251105T170000
DTSTAMP:20260420T021040
CREATED:20250409T185605Z
LAST-MODIFIED:20250409T185605Z
UID:10000331-1762329600-1762362000@memphistn.gov
SUMMARY:Board of Ethics Meeting
DESCRIPTION:Benjamin L. Hooks Central Library\n3030 Poplar Avenue\nRoom L-56
URL:https://memphistn.gov/event/board-of-ethics-meeting-9/
LOCATION:Benjamin L Hooks Central Library\, 3030 Poplar Ave\, Memphis\, 38111\, United States
CATEGORIES:Board of Ethics,Meetings,Regular
END:VEVENT
BEGIN:VEVENT
DTSTART;TZID=UTC:20251105T090000
DTEND;TZID=UTC:20251105T090000
DTSTAMP:20260420T021040
CREATED:20250410T213713Z
LAST-MODIFIED:20251119T181719Z
UID:10000422-1762333200-1762333200@memphistn.gov
SUMMARY:Alcohol Commission Meeting
DESCRIPTION:Filing Deadline: 12:00PM \nWed. October 15th\, 2025  \nAlcohol Commission Meeting Agenda \nAlcohol Commission Meeting Minutes \nPermits Office Contact Information: Email: permits@memphistn.gov \nTelephone: 901-636-6711
URL:https://memphistn.gov/event/alcohol-commission-meeting-39/
LOCATION:City Council Chambers (1st Floor)\, 125 North Main Street\, Memphis\, 38103\, United States
CATEGORIES:Meetings,Regular
END:VEVENT
BEGIN:VEVENT
DTSTART;TZID=UTC:20251106T083000
DTEND;TZID=UTC:20251106T083000
DTSTAMP:20260420T021040
CREATED:20251222T222140Z
LAST-MODIFIED:20251222T222140Z
UID:10000855-1762417800-1762417800@memphistn.gov
SUMMARY:CRA BOARD OF DIRECTORS MEETING
DESCRIPTION:Note: A calendar invite will be sent. Each month\, please let me know if you \nWILL or WILL NOT be attending. If you have any questions\, please contact \nCynthia Durham at the CRA office at \n901-435-6992 x209 or email her at \nCYNTHIA.DURHAM@CRAMEMPHIS.ORG
URL:https://memphistn.gov/event/cra-board-of-directors-meeting-23/
LOCATION:Community Redevelopment Agency Office\, 850 N. Manassas St\, Memphis\, TN\, 38107\, United States
CATEGORIES:Meetings,Regular
END:VEVENT
BEGIN:VEVENT
DTSTART;TZID=UTC:20251106T110000
DTEND;TZID=UTC:20251106T110000
DTSTAMP:20260420T021040
CREATED:20250410T195756Z
LAST-MODIFIED:20251104T153303Z
UID:10000397-1762426800-1762426800@memphistn.gov
SUMMARY:Transportation Commission Meeting
DESCRIPTION:Filing Deadline: 12:00PM \nWed. October 22\, 2025 \nTransportation Commission Meeting Agenda Document  \nPermits Office Contact Information: Email: permits@memphistn.gov \nTelephone: 901-636-6711
URL:https://memphistn.gov/event/transportation-commission-meeting-11/
LOCATION:City Hall (Conference Room A 4th Floor)\, 125 North Main Street\, Memphis\, TN\, 38103\, United States
CATEGORIES:Meetings,Regular
END:VEVENT
BEGIN:VEVENT
DTSTART;VALUE=DATE:20251107
DTEND;VALUE=DATE:20251108
DTSTAMP:20260420T021040
CREATED:20251001T203644Z
LAST-MODIFIED:20251001T204735Z
UID:10000669-1762473600-1762559999@memphistn.gov
SUMMARY:Hack Memphis Fall 2025 City Hackathon
DESCRIPTION:
URL:https://memphistn.gov/event/hack-memphis-fall-2025-city-hackathon/2025-11-07/
LOCATION:365 Fogelman Drive\, Fedex Institute of Technology\, University of Memphis\, Memphis\, TN\, United States
CATEGORIES:Meetings,Regular
END:VEVENT
BEGIN:VEVENT
DTSTART;VALUE=DATE:20251108
DTEND;VALUE=DATE:20251109
DTSTAMP:20260420T021040
CREATED:20251001T203644Z
LAST-MODIFIED:20251001T204735Z
UID:10000670-1762588800-1762621200@memphistn.gov
SUMMARY:Hack Memphis Fall 2025 City Hackathon
DESCRIPTION:
URL:https://memphistn.gov/event/hack-memphis-fall-2025-city-hackathon/2025-11-08/
LOCATION:365 Fogelman Drive\, Fedex Institute of Technology\, University of Memphis\, Memphis\, TN\, United States
CATEGORIES:Meetings,Regular
END:VEVENT
BEGIN:VEVENT
DTSTART;VALUE=DATE:20251109
DTEND;VALUE=DATE:20251110
DTSTAMP:20260420T021040
CREATED:20251001T203644Z
LAST-MODIFIED:20251001T204735Z
UID:10000671-1762675200-1762707600@memphistn.gov
SUMMARY:Hack Memphis Fall 2025 City Hackathon
DESCRIPTION:
URL:https://memphistn.gov/event/hack-memphis-fall-2025-city-hackathon/2025-11-09/
LOCATION:365 Fogelman Drive\, Fedex Institute of Technology\, University of Memphis\, Memphis\, TN\, United States
CATEGORIES:Meetings,Regular
END:VEVENT
END:VCALENDAR