BEGIN:VCALENDAR
VERSION:2.0
PRODID:-//The City of Memphis - ECPv6.15.0//NONSGML v1.0//EN
CALSCALE:GREGORIAN
METHOD:PUBLISH
X-ORIGINAL-URL:https://memphistn.gov
X-WR-CALDESC:Events for The City of Memphis
REFRESH-INTERVAL;VALUE=DURATION:PT1H
X-Robots-Tag:noindex
X-PUBLISHED-TTL:PT1H
BEGIN:VTIMEZONE
TZID:America/Chicago
BEGIN:DAYLIGHT
TZOFFSETFROM:-0600
TZOFFSETTO:-0500
TZNAME:CDT
DTSTART:20250309T080000
END:DAYLIGHT
BEGIN:STANDARD
TZOFFSETFROM:-0500
TZOFFSETTO:-0600
TZNAME:CST
DTSTART:20251102T070000
END:STANDARD
END:VTIMEZONE
BEGIN:VTIMEZONE
TZID:UTC
BEGIN:STANDARD
TZOFFSETFROM:+0000
TZOFFSETTO:+0000
TZNAME:UTC
DTSTART:20250101T000000
END:STANDARD
END:VTIMEZONE
BEGIN:VEVENT
DTSTART;TZID=America/Chicago:20250924T140000
DTEND;TZID=America/Chicago:20250924T140000
DTSTAMP:20260419T080242
CREATED:20250813T201920Z
LAST-MODIFIED:20250813T202233Z
UID:10000618-1758722400-1758722400@memphistn.gov
SUMMARY:Board of Adjustment Meeting
DESCRIPTION:
URL:https://memphistn.gov/event/board-of-adjustment-meeting/2025-09-24/
LOCATION:City Council Chambers (1st Floor)\, 125 North Main Street\, Memphis\, 38103\, United States
CATEGORIES:Meetings,Regular
END:VEVENT
BEGIN:VEVENT
DTSTART;TZID=UTC:20250924T150000
DTEND;TZID=UTC:20250924T163000
DTSTAMP:20260419T080242
CREATED:20250415T235013Z
LAST-MODIFIED:20250415T235013Z
UID:10000471-1758726000-1758731400@memphistn.gov
SUMMARY:MCCC Meeting
DESCRIPTION:
URL:https://memphistn.gov/event/mccc-meeting-6/
LOCATION:City Hall\, 125 N Main St\, Memphis\, TN\, 38103\, United States
CATEGORIES:Meetings,Regular
END:VEVENT
BEGIN:VEVENT
DTSTART;TZID=UTC:20250925T090000
DTEND;TZID=UTC:20250925T090000
DTSTAMP:20260419T080242
CREATED:20250411T234629Z
LAST-MODIFIED:20250411T234629Z
UID:10000450-1758790800-1758790800@memphistn.gov
SUMMARY:Pension Board Meeting
DESCRIPTION:
URL:https://memphistn.gov/event/pension-board-meeting-9/
LOCATION:Council Chambers (lobby level)\, 125 North Main Street\, Memphis\, TN\, 38103\, United States
CATEGORIES:Meetings,Regular
END:VEVENT
END:VCALENDAR