BEGIN:VCALENDAR
VERSION:2.0
PRODID:-//The City of Memphis - ECPv6.15.0//NONSGML v1.0//EN
CALSCALE:GREGORIAN
METHOD:PUBLISH
X-ORIGINAL-URL:https://memphistn.gov
X-WR-CALDESC:Events for The City of Memphis
REFRESH-INTERVAL;VALUE=DURATION:PT1H
X-Robots-Tag:noindex
X-PUBLISHED-TTL:PT1H
BEGIN:VTIMEZONE
TZID:America/Chicago
BEGIN:DAYLIGHT
TZOFFSETFROM:-0600
TZOFFSETTO:-0500
TZNAME:CDT
DTSTART:20250309T080000
END:DAYLIGHT
BEGIN:STANDARD
TZOFFSETFROM:-0500
TZOFFSETTO:-0600
TZNAME:CST
DTSTART:20251102T070000
END:STANDARD
END:VTIMEZONE
BEGIN:VEVENT
DTSTART;TZID=America/Chicago:20251122T100000
DTEND;TZID=America/Chicago:20251122T140000
DTSTAMP:20260419T154330
CREATED:20250714T181632Z
LAST-MODIFIED:20250714T183252Z
UID:10000581-1763805600-1763820000@memphistn.gov
SUMMARY:MAS Adoption Event
DESCRIPTION:
URL:https://memphistn.gov/event/mas-adoption-event/2025-11-22/
LOCATION:Petsmart Wolfchase\, 2805 Wolfcreek Parkway\, Memphis\, TN\, 38133\, United States
CATEGORIES:Regular
END:VEVENT
BEGIN:VEVENT
DTSTART;TZID=America/Chicago:20251122T113000
DTEND;TZID=America/Chicago:20251122T150000
DTSTAMP:20260419T154330
CREATED:20251117T211410Z
LAST-MODIFIED:20251117T211410Z
UID:10000679-1763811000-1763823600@memphistn.gov
SUMMARY:City of Memphis Libraries Division: 901 Kids Fest (Organized by Kidfani Kids a Charitable Organization)
DESCRIPTION:Open to the public.
URL:https://memphistn.gov/event/city-of-memphis-libraries-division-901-kids-fest-organized-by-kidfani-kids-a-charitable-organization/
LOCATION:Cossitt Library\, 33 South Front St.\, Memphis\, TN\, 38103\, United States
CATEGORIES:Regular
END:VEVENT
END:VCALENDAR