BEGIN:VCALENDAR
VERSION:2.0
PRODID:-//The City of Memphis - ECPv6.15.0//NONSGML v1.0//EN
CALSCALE:GREGORIAN
METHOD:PUBLISH
X-WR-CALNAME:The City of Memphis
X-ORIGINAL-URL:https://memphistn.gov
X-WR-CALDESC:Events for The City of Memphis
REFRESH-INTERVAL;VALUE=DURATION:PT1H
X-Robots-Tag:noindex
X-PUBLISHED-TTL:PT1H
BEGIN:VTIMEZONE
TZID:UTC
BEGIN:STANDARD
TZOFFSETFROM:+0000
TZOFFSETTO:+0000
TZNAME:UTC
DTSTART:20250101T000000
END:STANDARD
END:VTIMEZONE
BEGIN:VEVENT
DTSTART;TZID=UTC:20250415T093000
DTEND;TZID=UTC:20250415T120000
DTSTAMP:20260420T023840
CREATED:20250325T201751Z
LAST-MODIFIED:20250415T204933Z
UID:10000140-1744709400-1744718400@memphistn.gov
SUMMARY:Government Contract hosted by Tennessee Small Business Development Center
DESCRIPTION:Government contracting is complex\, with strict regulations\, requirements\, and procedures. Workshops help businesses navigate the process\, understand how to bid\, and comply with the necessary legal and financial frameworks.
URL:https://memphistn.gov/event/government-contract-hosted-by-tennessee-small-business-development-center/
LOCATION:Entrepreneurs Network Center\, 480 Dr. ML Kings Jr. Ave\, Memphis\, TN\, 38126\, United States
CATEGORIES:Board of Ethics,Office of Contract Compliance
END:VEVENT
BEGIN:VEVENT
DTSTART;TZID=UTC:20250415T160000
DTEND;TZID=UTC:20250415T170000
DTSTAMP:20260420T023840
CREATED:20250324T190805Z
LAST-MODIFIED:20250324T190805Z
UID:10000041-1744732800-1744736400@memphistn.gov
SUMMARY:Piano Playing Using Math Concepts
DESCRIPTION:Continuing Education and Lifelong Learning Classes – Memphis Public Libraries\nMemphis Public Libraries is providing continuing education and lifelong learning classes designed to give people an opportunity to grow in their professional and personal lives by offering 4 intense weeks of study in various subject areas.\n\n\n\n\n\n\nApril 1\, 8\, 15\, 22
URL:https://memphistn.gov/event/piano-playing-using-math-concepts/2025-04-15/
LOCATION:Officer Geoffrey Redd Library\, 5094 Poplar Avenue\, Memphis\, Tennessee\, 38117\, United States
CATEGORIES:Regular
END:VEVENT
BEGIN:VEVENT
DTSTART;TZID=UTC:20250415T160000
DTEND;TZID=UTC:20250415T170000
DTSTAMP:20260420T023840
CREATED:20250324T210900Z
LAST-MODIFIED:20250324T210923Z
UID:10000114-1744732800-1744736400@memphistn.gov
SUMMARY:Introduction to Spanish
DESCRIPTION:Continuing Education and Lifelong Learning Classes – Memphis Public Libraries\nMemphis Public Libraries is providing continuing education and lifelong learning classes designed to give people an opportunity to grow in their professional and personal lives by offering 4 intense weeks of study in various subject areas.\nApril 8\, 15\, 22\, 29
URL:https://memphistn.gov/event/introduction-to-spanish/2025-04-15/
LOCATION:Cordova Library\, 8457 Trinity Rd\, Memphis\, TN\, 38018\, United States
CATEGORIES:Regular
END:VEVENT
END:VCALENDAR