BEGIN:VCALENDAR
VERSION:2.0
PRODID:-//The City of Memphis - ECPv6.15.0//NONSGML v1.0//EN
CALSCALE:GREGORIAN
METHOD:PUBLISH
X-WR-CALNAME:The City of Memphis
X-ORIGINAL-URL:https://memphistn.gov
X-WR-CALDESC:Events for The City of Memphis
REFRESH-INTERVAL;VALUE=DURATION:PT1H
X-Robots-Tag:noindex
X-PUBLISHED-TTL:PT1H
BEGIN:VTIMEZONE
TZID:UTC
BEGIN:STANDARD
TZOFFSETFROM:+0000
TZOFFSETTO:+0000
TZNAME:UTC
DTSTART:20250101T000000
END:STANDARD
END:VTIMEZONE
BEGIN:VEVENT
DTSTART;TZID=UTC:20250409T101500
DTEND;TZID=UTC:20250409T113000
DTSTAMP:20260421T073639
CREATED:20250409T190536Z
LAST-MODIFIED:20250409T191740Z
UID:10000333-1744193700-1744198200@memphistn.gov
SUMMARY:Board of Ethics Meeting
DESCRIPTION:Benjamin L. Hooks Central Library\n3030 Poplar Avenue\nRoom L-56
URL:https://memphistn.gov/event/board-of-ethics-meeting/
LOCATION:Benjamin L Hooks Central Library\, 3030 Poplar Ave\, Memphis\, 38111\, United States
CATEGORIES:Board of Ethics,Meetings,Regular
END:VEVENT
BEGIN:VEVENT
DTSTART;TZID=UTC:20250409T123000
DTEND;TZID=UTC:20250409T133000
DTSTAMP:20260421T073639
CREATED:20250324T191534Z
LAST-MODIFIED:20250324T191534Z
UID:10000045-1744201800-1744205400@memphistn.gov
SUMMARY:Body Weight Fitness
DESCRIPTION:Continuing Education and Lifelong Learning Classes – Memphis Public Libraries\nMemphis Public Libraries is providing continuing education and lifelong learning classes designed to give people an opportunity to grow in their professional and personal lives by offering 4 intense weeks of study in various subject areas.\n\n\n\n\n\nApril 2\, 9\, 16\, 23
URL:https://memphistn.gov/event/body-weight-fitness/2025-04-09/
LOCATION:Randolph Branch Library\, 3752 Given Ave\, Memphis\, Tennessee\, 38122\, United States
CATEGORIES:Regular
END:VEVENT
BEGIN:VEVENT
DTSTART;TZID=UTC:20250409T170000
DTEND;TZID=UTC:20250409T180000
DTSTAMP:20260421T073639
CREATED:20250324T192121Z
LAST-MODIFIED:20250324T192121Z
UID:10000049-1744218000-1744221600@memphistn.gov
SUMMARY:Canva for Starters
DESCRIPTION:Continuing Education and Lifelong Learning Classes – Memphis Public Libraries\nMemphis Public Libraries is providing continuing education and lifelong learning classes designed to give people an opportunity to grow in their professional and personal lives by offering 4 intense weeks of study in various subject areas.\n\n\n\n\n\n\nApril 2\, 9\, 16\, 23
URL:https://memphistn.gov/event/canva-for-starters/2025-04-09/
LOCATION:Cordova Library\, 8457 Trinity Rd\, Memphis\, TN\, 38018\, United States
CATEGORIES:Regular
END:VEVENT
BEGIN:VEVENT
DTSTART;TZID=UTC:20250409T180000
DTEND;TZID=UTC:20250409T190000
DTSTAMP:20260421T073639
CREATED:20250324T213453Z
LAST-MODIFIED:20250324T213453Z
UID:10000126-1744221600-1744225200@memphistn.gov
SUMMARY:Yoga in the Park
DESCRIPTION:
URL:https://memphistn.gov/event/yoga-in-the-park/2025-04-09/
LOCATION:Marion Hale Community Center\, 4791 Willow Rd\, Memphis\, TN\, Memphis\, TN\, 38117\, United States
CATEGORIES:Regular
END:VEVENT
END:VCALENDAR