BEGIN:VCALENDAR
VERSION:2.0
PRODID:-//The City of Memphis - ECPv6.15.0//NONSGML v1.0//EN
CALSCALE:GREGORIAN
METHOD:PUBLISH
X-WR-CALNAME:The City of Memphis
X-ORIGINAL-URL:https://memphistn.gov
X-WR-CALDESC:Events for The City of Memphis
REFRESH-INTERVAL;VALUE=DURATION:PT1H
X-Robots-Tag:noindex
X-PUBLISHED-TTL:PT1H
BEGIN:VTIMEZONE
TZID:America/Chicago
BEGIN:DAYLIGHT
TZOFFSETFROM:-0600
TZOFFSETTO:-0500
TZNAME:CDT
DTSTART:20250309T080000
END:DAYLIGHT
BEGIN:STANDARD
TZOFFSETFROM:-0500
TZOFFSETTO:-0600
TZNAME:CST
DTSTART:20251102T070000
END:STANDARD
END:VTIMEZONE
BEGIN:VEVENT
DTSTART;TZID=America/Chicago:20250816T110000
DTEND;TZID=America/Chicago:20250816T130000
DTSTAMP:20260423T130620
CREATED:20250812T192525Z
LAST-MODIFIED:20250812T192853Z
UID:7075-1755342000-1755349200@memphistn.gov
SUMMARY:Whitehaven Library's 5th Annual Back to School Extravaganza
DESCRIPTION:Click link to review details: \nhttps://memphis.librarycalendar.com/event/whitehaven-librarys-5th-annual-back-school-extravaganza-31904
URL:https://memphistn.gov/event/whitehaven-librarys-5th-annual-back-to-school-extravaganza/
LOCATION:Whitehaven Library\, 4120 Mill Branch Rd\, Memphis\, TN\, 38116\, United States
CATEGORIES:Regular
END:VEVENT
END:VCALENDAR