BEGIN:VCALENDAR
VERSION:2.0
PRODID:-//The City of Memphis - ECPv6.15.0//NONSGML v1.0//EN
CALSCALE:GREGORIAN
METHOD:PUBLISH
X-WR-CALNAME:The City of Memphis
X-ORIGINAL-URL:https://memphistn.gov
X-WR-CALDESC:Events for The City of Memphis
REFRESH-INTERVAL;VALUE=DURATION:PT1H
X-Robots-Tag:noindex
X-PUBLISHED-TTL:PT1H
BEGIN:VTIMEZONE
TZID:UTC
BEGIN:STANDARD
TZOFFSETFROM:+0000
TZOFFSETTO:+0000
TZNAME:UTC
DTSTART:20250101T000000
END:STANDARD
END:VTIMEZONE
BEGIN:VEVENT
DTSTART;TZID=UTC:20250414T160000
DTEND;TZID=UTC:20250414T170000
DTSTAMP:20260421T182159
CREATED:20250324T210243Z
LAST-MODIFIED:20250324T210243Z
UID:10000102-1744646400-1744650000@memphistn.gov
SUMMARY:Saxophone Techniques
DESCRIPTION:Continuing Education and Lifelong Learning Classes – Memphis Public Libraries\nMemphis Public Libraries is providing continuing education and lifelong learning classes designed to give people an opportunity to grow in their professional and personal lives by offering 4 intense weeks of study in various subject areas.\n\n\n\n\n\n\nApril 7\, 14\, 21\, 28
URL:https://memphistn.gov/event/saxophone-techniques/2025-04-14/
LOCATION:Whitehaven Library\, 4120 Mill Branch Rd\, Memphis\, TN\, 38116\, United States
CATEGORIES:Regular
END:VEVENT
END:VCALENDAR