BEGIN:VCALENDAR
VERSION:2.0
PRODID:-//The City of Memphis - ECPv6.15.0//NONSGML v1.0//EN
CALSCALE:GREGORIAN
METHOD:PUBLISH
X-WR-CALNAME:The City of Memphis
X-ORIGINAL-URL:https://memphistn.gov
X-WR-CALDESC:Events for The City of Memphis
REFRESH-INTERVAL;VALUE=DURATION:PT1H
X-Robots-Tag:noindex
X-PUBLISHED-TTL:PT1H
BEGIN:VTIMEZONE
TZID:UTC
BEGIN:STANDARD
TZOFFSETFROM:+0000
TZOFFSETTO:+0000
TZNAME:UTC
DTSTART:20250101T000000
END:STANDARD
END:VTIMEZONE
BEGIN:VEVENT
DTSTART;TZID=UTC:20250814T173000
DTEND;TZID=UTC:20250814T190000
DTSTAMP:20260425T221406
CREATED:20250806T211413Z
LAST-MODIFIED:20250806T213257Z
UID:7029-1755192600-1755198000@memphistn.gov
SUMMARY:Riverfront Master Plan Community Input Session
DESCRIPTION:Join the City of Memphis for a community input session to include your ideas in Mayor Young’s Riverfront Master Plan. This session will cover assets from Greenbelt Landing to the Welcome Center at Riverside Drive. \nThe Kent\, 61 Keel Ave\, Memphis\, TN 38107 \n \n 
URL:https://memphistn.gov/event/riverfront-master-plan-community-input-session/
LOCATION:The Kent\, 61 Keel Ave\, Memphis\, The Kent\, 61 Keel Ave\, Memphis\, TN\, 38107\, United States
CATEGORIES:Regular
END:VEVENT
END:VCALENDAR