BEGIN:VCALENDAR
VERSION:2.0
PRODID:-//The City of Memphis - ECPv6.15.0//NONSGML v1.0//EN
CALSCALE:GREGORIAN
METHOD:PUBLISH
X-WR-CALNAME:The City of Memphis
X-ORIGINAL-URL:https://memphistn.gov
X-WR-CALDESC:Events for The City of Memphis
REFRESH-INTERVAL;VALUE=DURATION:PT1H
X-Robots-Tag:noindex
X-PUBLISHED-TTL:PT1H
BEGIN:VTIMEZONE
TZID:America/Chicago
BEGIN:DAYLIGHT
TZOFFSETFROM:-0600
TZOFFSETTO:-0500
TZNAME:CDT
DTSTART:20250309T080000
END:DAYLIGHT
BEGIN:STANDARD
TZOFFSETFROM:-0500
TZOFFSETTO:-0600
TZNAME:CST
DTSTART:20251102T070000
END:STANDARD
END:VTIMEZONE
BEGIN:VEVENT
DTSTART;TZID=America/Chicago:20250913T100000
DTEND;TZID=America/Chicago:20250913T140000
DTSTAMP:20260421T134016
CREATED:20250911T162835Z
LAST-MODIFIED:20250911T162835Z
UID:7300-1757757600-1757772000@memphistn.gov
SUMMARY:Memphis Parks Market Audubon Park
DESCRIPTION:Click link for more information: \nhttps://www.facebook.com/share/16BHe8pKDQ/?mibextid=wwXIfr 
URL:https://memphistn.gov/event/memphis-parks-market-audubon-park/
LOCATION:Audubon Park\, 681 S Goodlett St\,\, Memphis\, 38111\, United States
CATEGORIES:Regular
END:VEVENT
END:VCALENDAR