BEGIN:VCALENDAR
VERSION:2.0
PRODID:-//The City of Memphis - ECPv6.15.0//NONSGML v1.0//EN
CALSCALE:GREGORIAN
METHOD:PUBLISH
X-WR-CALNAME:The City of Memphis
X-ORIGINAL-URL:https://memphistn.gov
X-WR-CALDESC:Events for The City of Memphis
REFRESH-INTERVAL;VALUE=DURATION:PT1H
X-Robots-Tag:noindex
X-PUBLISHED-TTL:PT1H
BEGIN:VTIMEZONE
TZID:UTC
BEGIN:STANDARD
TZOFFSETFROM:+0000
TZOFFSETTO:+0000
TZNAME:UTC
DTSTART:20250101T000000
END:STANDARD
END:VTIMEZONE
BEGIN:VEVENT
DTSTART;TZID=UTC:20250322T100000
DTEND;TZID=UTC:20250322T110000
DTSTAMP:20260423T171820
CREATED:20250219T152012Z
LAST-MODIFIED:20250322T015037Z
UID:4890-1742637600-1742641200@memphistn.gov
SUMMARY:Embracing Autism
DESCRIPTION:Embracing Autism \nhttps://memphis.librarycalendar.com/event/embracing-autism-17833
URL:https://memphistn.gov/event/embracing-autism/
LOCATION:Raleigh Library\, 3452 Austin Peay Hwy\, Memphis\, TN\, 38128\, United States
CATEGORIES:Regular
END:VEVENT
END:VCALENDAR