BEGIN:VCALENDAR
VERSION:2.0
PRODID:-//The City of Memphis - ECPv6.15.0//NONSGML v1.0//EN
CALSCALE:GREGORIAN
METHOD:PUBLISH
X-WR-CALNAME:The City of Memphis
X-ORIGINAL-URL:https://memphistn.gov
X-WR-CALDESC:Events for The City of Memphis
REFRESH-INTERVAL;VALUE=DURATION:PT1H
X-Robots-Tag:noindex
X-PUBLISHED-TTL:PT1H
BEGIN:VTIMEZONE
TZID:UTC
BEGIN:STANDARD
TZOFFSETFROM:+0000
TZOFFSETTO:+0000
TZNAME:UTC
DTSTART:20250101T000000
END:STANDARD
END:VTIMEZONE
BEGIN:VEVENT
DTSTART;TZID=UTC:20250828T173000
DTEND;TZID=UTC:20250828T173000
DTSTAMP:20260421T063658
CREATED:20250326T005256Z
LAST-MODIFIED:20250415T204707Z
UID:5114-1756402200-1756402200@memphistn.gov
SUMMARY:Don’t Fear Taxes: Sales and Use Tax/No Temas a los Impuestos: Impuestos sobre Ventas y Uso
DESCRIPTION:Get informed about state tax obligations and how to properly manage sales and use taxes.
URL:https://memphistn.gov/event/dont-fear-taxes-sales-and-use-tax-no-temas-a-los-impuestos-impuestos-sobre-ventas-y-uso/
LOCATION:Gaisman Community Center\, 4221 Macon Rd\, memphis\, TN\, 381122\, United States
CATEGORIES:Office of Contract Compliance
END:VEVENT
END:VCALENDAR