BEGIN:VCALENDAR
VERSION:2.0
PRODID:-//The City of Memphis - ECPv6.15.0//NONSGML v1.0//EN
CALSCALE:GREGORIAN
METHOD:PUBLISH
X-WR-CALNAME:The City of Memphis
X-ORIGINAL-URL:https://memphistn.gov
X-WR-CALDESC:Events for The City of Memphis
REFRESH-INTERVAL;VALUE=DURATION:PT1H
X-Robots-Tag:noindex
X-PUBLISHED-TTL:PT1H
BEGIN:VTIMEZONE
TZID:UTC
BEGIN:STANDARD
TZOFFSETFROM:+0000
TZOFFSETTO:+0000
TZNAME:UTC
DTSTART:20250101T000000
END:STANDARD
END:VTIMEZONE
BEGIN:VEVENT
DTSTART;TZID=UTC:20250920T130000
DTEND;TZID=UTC:20250920T140000
DTSTAMP:20260419T190842
CREATED:20250326T011508Z
LAST-MODIFIED:20250326T011631Z
UID:5123-1758373200-1758376800@memphistn.gov
SUMMARY:Dog Handling Course
DESCRIPTION:If you’re a Level 1 volunteer and would like to progress to Level 2 to handle the dogs at our shelter\, attend a Dog Handling Course! You can sign up on our volunteer website\, My Impact\, under the Opportunities Calendar.  \n\nNot a Level 1 volunteer yet? Watch our online orientation  and submit an application to become a Level 1 volunteer! \n\n\n\n\nPlease note that only those 18 and older can handle our shelter animals without adult supervision. For more information\, check out our Get Started Here page.
URL:https://memphistn.gov/event/dog-handling-course-6/
CATEGORIES:Regular
END:VEVENT
END:VCALENDAR