BEGIN:VCALENDAR
VERSION:2.0
PRODID:-//The City of Memphis - ECPv6.15.0//NONSGML v1.0//EN
CALSCALE:GREGORIAN
METHOD:PUBLISH
X-WR-CALNAME:The City of Memphis
X-ORIGINAL-URL:https://memphistn.gov
X-WR-CALDESC:Events for The City of Memphis
REFRESH-INTERVAL;VALUE=DURATION:PT1H
X-Robots-Tag:noindex
X-PUBLISHED-TTL:PT1H
BEGIN:VTIMEZONE
TZID:UTC
BEGIN:STANDARD
TZOFFSETFROM:+0000
TZOFFSETTO:+0000
TZNAME:UTC
DTSTART:20250101T000000
END:STANDARD
END:VTIMEZONE
BEGIN:VEVENT
DTSTART;TZID=UTC:20250324T080000
DTEND;TZID=UTC:20250324T170000
DTSTAMP:20260425T221037
CREATED:20250324T214452Z
LAST-MODIFIED:20250324T214452Z
UID:5012-1742803200-1742835600@memphistn.gov
SUMMARY:Craft Making with Vinyl & Sublimation
DESCRIPTION:Continuing Education and Lifelong Learning Classes – Memphis Public Libraries\nMemphis Public Libraries is providing continuing education and lifelong learning classes designed to give people an opportunity to grow in their professional and personal lives by offering 4 intense weeks of study in various subject areas.\n\n\n\n\n\n\n\nApril 17\, 24
URL:https://memphistn.gov/event/craft-making-with-vinyl-sublimation/
CATEGORIES:Regular
END:VEVENT
END:VCALENDAR