BEGIN:VCALENDAR
VERSION:2.0
PRODID:-//The City of Memphis - ECPv6.15.0//NONSGML v1.0//EN
CALSCALE:GREGORIAN
METHOD:PUBLISH
X-WR-CALNAME:The City of Memphis
X-ORIGINAL-URL:https://memphistn.gov
X-WR-CALDESC:Events for The City of Memphis
REFRESH-INTERVAL;VALUE=DURATION:PT1H
X-Robots-Tag:noindex
X-PUBLISHED-TTL:PT1H
BEGIN:VTIMEZONE
TZID:UTC
BEGIN:STANDARD
TZOFFSETFROM:+0000
TZOFFSETTO:+0000
TZNAME:UTC
DTSTART:20250101T000000
END:STANDARD
END:VTIMEZONE
BEGIN:VEVENT
DTSTART;TZID=UTC:20250528T163000
DTEND;TZID=UTC:20250528T173000
DTSTAMP:20260419T143641
CREATED:20250325T213906Z
LAST-MODIFIED:20250325T213906Z
UID:10000198-1748449800-1748453400@memphistn.gov
SUMMARY:Business Branding for Beginners
DESCRIPTION:Continuing Education and Lifelong Learning Classes – Memphis Public Libraries\nMemphis Public Libraries is providing continuing education and lifelong learning classes designed to give people an opportunity to grow in their professional and personal lives by offering 4 intense weeks of study in various subject areas.\n\n\n\n\n\nMay 7\, 14\, 21\, 28
URL:https://memphistn.gov/event/business-branding-for-beginners/2025-05-28/
LOCATION:East Branch Library\, 7200 E. Shelby Dr\, Memphis\, TN\, 38125\, United States
CATEGORIES:Regular
END:VEVENT
END:VCALENDAR